BEGIN:VCALENDAR
VERSION:2.0
PRODID:-//Trellis - ECPv6.15.20//NONSGML v1.0//EN
CALSCALE:GREGORIAN
METHOD:PUBLISH
X-WR-CALNAME:Trellis
X-ORIGINAL-URL:https://trellisconnects.org
X-WR-CALDESC:Events for Trellis
REFRESH-INTERVAL;VALUE=DURATION:PT1H
X-Robots-Tag:noindex
X-PUBLISHED-TTL:PT1H
BEGIN:VTIMEZONE
TZID:America/Chicago
BEGIN:DAYLIGHT
TZOFFSETFROM:-0600
TZOFFSETTO:-0500
TZNAME:CDT
DTSTART:20260308T080000
END:DAYLIGHT
BEGIN:STANDARD
TZOFFSETFROM:-0500
TZOFFSETTO:-0600
TZNAME:CST
DTSTART:20261101T070000
END:STANDARD
BEGIN:DAYLIGHT
TZOFFSETFROM:-0600
TZOFFSETTO:-0500
TZNAME:CDT
DTSTART:20270314T080000
END:DAYLIGHT
BEGIN:STANDARD
TZOFFSETFROM:-0500
TZOFFSETTO:-0600
TZNAME:CST
DTSTART:20271107T070000
END:STANDARD
BEGIN:DAYLIGHT
TZOFFSETFROM:-0600
TZOFFSETTO:-0500
TZNAME:CDT
DTSTART:20280312T080000
END:DAYLIGHT
BEGIN:STANDARD
TZOFFSETFROM:-0500
TZOFFSETTO:-0600
TZNAME:CST
DTSTART:20281105T070000
END:STANDARD
BEGIN:DAYLIGHT
TZOFFSETFROM:-0600
TZOFFSETTO:-0500
TZNAME:CDT
DTSTART:20290311T080000
END:DAYLIGHT
BEGIN:STANDARD
TZOFFSETFROM:-0500
TZOFFSETTO:-0600
TZNAME:CST
DTSTART:20291104T070000
END:STANDARD
END:VTIMEZONE
BEGIN:VEVENT
DTSTART;TZID=America/Chicago:20270508T090000
DTEND;TZID=America/Chicago:20270508T120000
DTSTAMP:20260425T104121
CREATED:20230118T184150Z
LAST-MODIFIED:20230601T154633Z
UID:10001538-1809766800-1809777600@trellisconnects.org
SUMMARY:Second Saturday for Caregivers
DESCRIPTION:Join Normandale Center for Healing & Wholeness for their free Second Saturday program each month which includes a 90 minute education session beginning at 9:00 am and a support group meeting directly afterwards at 10:30 am. The morning education session provides powerful tools and coping skills for you the caregiver. \nRespite is available for your loved one from 9 am – 12pm with advanced registration.
URL:https://trellisconnects.org/cc-event/second-saturday-for-caregivers/2027-05-08/
LOCATION:Normandale Center for Healing & Wholeness\, 6100 Normandale Road\, 2nd Floor\, Edina\, Minnesota\, 55436\, United States
CATEGORIES:Caregiver Education
END:VEVENT
BEGIN:VEVENT
DTSTART;TZID=America/Chicago:20270612T090000
DTEND;TZID=America/Chicago:20270612T120000
DTSTAMP:20260425T104121
CREATED:20230118T184150Z
LAST-MODIFIED:20230601T154633Z
UID:10001539-1812790800-1812801600@trellisconnects.org
SUMMARY:Second Saturday for Caregivers
DESCRIPTION:Join Normandale Center for Healing & Wholeness for their free Second Saturday program each month which includes a 90 minute education session beginning at 9:00 am and a support group meeting directly afterwards at 10:30 am. The morning education session provides powerful tools and coping skills for you the caregiver. \nRespite is available for your loved one from 9 am – 12pm with advanced registration.
URL:https://trellisconnects.org/cc-event/second-saturday-for-caregivers/2027-06-12/
LOCATION:Normandale Center for Healing & Wholeness\, 6100 Normandale Road\, 2nd Floor\, Edina\, Minnesota\, 55436\, United States
CATEGORIES:Caregiver Education
END:VEVENT
BEGIN:VEVENT
DTSTART;TZID=America/Chicago:20270710T090000
DTEND;TZID=America/Chicago:20270710T120000
DTSTAMP:20260425T104121
CREATED:20230118T184150Z
LAST-MODIFIED:20230601T154633Z
UID:10001540-1815210000-1815220800@trellisconnects.org
SUMMARY:Second Saturday for Caregivers
DESCRIPTION:Join Normandale Center for Healing & Wholeness for their free Second Saturday program each month which includes a 90 minute education session beginning at 9:00 am and a support group meeting directly afterwards at 10:30 am. The morning education session provides powerful tools and coping skills for you the caregiver. \nRespite is available for your loved one from 9 am – 12pm with advanced registration.
URL:https://trellisconnects.org/cc-event/second-saturday-for-caregivers/2027-07-10/
LOCATION:Normandale Center for Healing & Wholeness\, 6100 Normandale Road\, 2nd Floor\, Edina\, Minnesota\, 55436\, United States
CATEGORIES:Caregiver Education
END:VEVENT
BEGIN:VEVENT
DTSTART;TZID=America/Chicago:20270814T090000
DTEND;TZID=America/Chicago:20270814T120000
DTSTAMP:20260425T104121
CREATED:20230118T184150Z
LAST-MODIFIED:20230601T154633Z
UID:10001541-1818234000-1818244800@trellisconnects.org
SUMMARY:Second Saturday for Caregivers
DESCRIPTION:Join Normandale Center for Healing & Wholeness for their free Second Saturday program each month which includes a 90 minute education session beginning at 9:00 am and a support group meeting directly afterwards at 10:30 am. The morning education session provides powerful tools and coping skills for you the caregiver. \nRespite is available for your loved one from 9 am – 12pm with advanced registration.
URL:https://trellisconnects.org/cc-event/second-saturday-for-caregivers/2027-08-14/
LOCATION:Normandale Center for Healing & Wholeness\, 6100 Normandale Road\, 2nd Floor\, Edina\, Minnesota\, 55436\, United States
CATEGORIES:Caregiver Education
END:VEVENT
BEGIN:VEVENT
DTSTART;TZID=America/Chicago:20270911T090000
DTEND;TZID=America/Chicago:20270911T120000
DTSTAMP:20260425T104121
CREATED:20230118T184150Z
LAST-MODIFIED:20230601T154633Z
UID:10001542-1820653200-1820664000@trellisconnects.org
SUMMARY:Second Saturday for Caregivers
DESCRIPTION:Join Normandale Center for Healing & Wholeness for their free Second Saturday program each month which includes a 90 minute education session beginning at 9:00 am and a support group meeting directly afterwards at 10:30 am. The morning education session provides powerful tools and coping skills for you the caregiver. \nRespite is available for your loved one from 9 am – 12pm with advanced registration.
URL:https://trellisconnects.org/cc-event/second-saturday-for-caregivers/2027-09-11/
LOCATION:Normandale Center for Healing & Wholeness\, 6100 Normandale Road\, 2nd Floor\, Edina\, Minnesota\, 55436\, United States
CATEGORIES:Caregiver Education
END:VEVENT
BEGIN:VEVENT
DTSTART;TZID=America/Chicago:20271009T090000
DTEND;TZID=America/Chicago:20271009T120000
DTSTAMP:20260425T104121
CREATED:20230118T184150Z
LAST-MODIFIED:20230601T154633Z
UID:10001543-1823072400-1823083200@trellisconnects.org
SUMMARY:Second Saturday for Caregivers
DESCRIPTION:Join Normandale Center for Healing & Wholeness for their free Second Saturday program each month which includes a 90 minute education session beginning at 9:00 am and a support group meeting directly afterwards at 10:30 am. The morning education session provides powerful tools and coping skills for you the caregiver. \nRespite is available for your loved one from 9 am – 12pm with advanced registration.
URL:https://trellisconnects.org/cc-event/second-saturday-for-caregivers/2027-10-09/
LOCATION:Normandale Center for Healing & Wholeness\, 6100 Normandale Road\, 2nd Floor\, Edina\, Minnesota\, 55436\, United States
CATEGORIES:Caregiver Education
END:VEVENT
BEGIN:VEVENT
DTSTART;TZID=America/Chicago:20271113T090000
DTEND;TZID=America/Chicago:20271113T120000
DTSTAMP:20260425T104121
CREATED:20230118T184150Z
LAST-MODIFIED:20230601T154633Z
UID:10001544-1826096400-1826107200@trellisconnects.org
SUMMARY:Second Saturday for Caregivers
DESCRIPTION:Join Normandale Center for Healing & Wholeness for their free Second Saturday program each month which includes a 90 minute education session beginning at 9:00 am and a support group meeting directly afterwards at 10:30 am. The morning education session provides powerful tools and coping skills for you the caregiver. \nRespite is available for your loved one from 9 am – 12pm with advanced registration.
URL:https://trellisconnects.org/cc-event/second-saturday-for-caregivers/2027-11-13/
LOCATION:Normandale Center for Healing & Wholeness\, 6100 Normandale Road\, 2nd Floor\, Edina\, Minnesota\, 55436\, United States
CATEGORIES:Caregiver Education
END:VEVENT
BEGIN:VEVENT
DTSTART;TZID=America/Chicago:20271211T090000
DTEND;TZID=America/Chicago:20271211T120000
DTSTAMP:20260425T104121
CREATED:20230118T184150Z
LAST-MODIFIED:20230601T154633Z
UID:10001545-1828515600-1828526400@trellisconnects.org
SUMMARY:Second Saturday for Caregivers
DESCRIPTION:Join Normandale Center for Healing & Wholeness for their free Second Saturday program each month which includes a 90 minute education session beginning at 9:00 am and a support group meeting directly afterwards at 10:30 am. The morning education session provides powerful tools and coping skills for you the caregiver. \nRespite is available for your loved one from 9 am – 12pm with advanced registration.
URL:https://trellisconnects.org/cc-event/second-saturday-for-caregivers/2027-12-11/
LOCATION:Normandale Center for Healing & Wholeness\, 6100 Normandale Road\, 2nd Floor\, Edina\, Minnesota\, 55436\, United States
CATEGORIES:Caregiver Education
END:VEVENT
BEGIN:VEVENT
DTSTART;TZID=America/Chicago:20280108T090000
DTEND;TZID=America/Chicago:20280108T120000
DTSTAMP:20260425T104121
CREATED:20230118T184150Z
LAST-MODIFIED:20230601T154633Z
UID:10001546-1830934800-1830945600@trellisconnects.org
SUMMARY:Second Saturday for Caregivers
DESCRIPTION:Join Normandale Center for Healing & Wholeness for their free Second Saturday program each month which includes a 90 minute education session beginning at 9:00 am and a support group meeting directly afterwards at 10:30 am. The morning education session provides powerful tools and coping skills for you the caregiver. \nRespite is available for your loved one from 9 am – 12pm with advanced registration.
URL:https://trellisconnects.org/cc-event/second-saturday-for-caregivers/2028-01-08/
LOCATION:Normandale Center for Healing & Wholeness\, 6100 Normandale Road\, 2nd Floor\, Edina\, Minnesota\, 55436\, United States
CATEGORIES:Caregiver Education
END:VEVENT
BEGIN:VEVENT
DTSTART;TZID=America/Chicago:20280212T090000
DTEND;TZID=America/Chicago:20280212T120000
DTSTAMP:20260425T104121
CREATED:20230118T184150Z
LAST-MODIFIED:20230601T154633Z
UID:10001547-1833958800-1833969600@trellisconnects.org
SUMMARY:Second Saturday for Caregivers
DESCRIPTION:Join Normandale Center for Healing & Wholeness for their free Second Saturday program each month which includes a 90 minute education session beginning at 9:00 am and a support group meeting directly afterwards at 10:30 am. The morning education session provides powerful tools and coping skills for you the caregiver. \nRespite is available for your loved one from 9 am – 12pm with advanced registration.
URL:https://trellisconnects.org/cc-event/second-saturday-for-caregivers/2028-02-12/
LOCATION:Normandale Center for Healing & Wholeness\, 6100 Normandale Road\, 2nd Floor\, Edina\, Minnesota\, 55436\, United States
CATEGORIES:Caregiver Education
END:VEVENT
BEGIN:VEVENT
DTSTART;TZID=America/Chicago:20280311T090000
DTEND;TZID=America/Chicago:20280311T120000
DTSTAMP:20260425T104121
CREATED:20230118T184150Z
LAST-MODIFIED:20230601T154633Z
UID:10001548-1836378000-1836388800@trellisconnects.org
SUMMARY:Second Saturday for Caregivers
DESCRIPTION:Join Normandale Center for Healing & Wholeness for their free Second Saturday program each month which includes a 90 minute education session beginning at 9:00 am and a support group meeting directly afterwards at 10:30 am. The morning education session provides powerful tools and coping skills for you the caregiver. \nRespite is available for your loved one from 9 am – 12pm with advanced registration.
URL:https://trellisconnects.org/cc-event/second-saturday-for-caregivers/2028-03-11/
LOCATION:Normandale Center for Healing & Wholeness\, 6100 Normandale Road\, 2nd Floor\, Edina\, Minnesota\, 55436\, United States
CATEGORIES:Caregiver Education
END:VEVENT
BEGIN:VEVENT
DTSTART;TZID=America/Chicago:20280408T090000
DTEND;TZID=America/Chicago:20280408T120000
DTSTAMP:20260425T104121
CREATED:20230118T184150Z
LAST-MODIFIED:20230601T154633Z
UID:10001549-1838797200-1838808000@trellisconnects.org
SUMMARY:Second Saturday for Caregivers
DESCRIPTION:Join Normandale Center for Healing & Wholeness for their free Second Saturday program each month which includes a 90 minute education session beginning at 9:00 am and a support group meeting directly afterwards at 10:30 am. The morning education session provides powerful tools and coping skills for you the caregiver. \nRespite is available for your loved one from 9 am – 12pm with advanced registration.
URL:https://trellisconnects.org/cc-event/second-saturday-for-caregivers/2028-04-08/
LOCATION:Normandale Center for Healing & Wholeness\, 6100 Normandale Road\, 2nd Floor\, Edina\, Minnesota\, 55436\, United States
CATEGORIES:Caregiver Education
END:VEVENT
BEGIN:VEVENT
DTSTART;TZID=America/Chicago:20280513T090000
DTEND;TZID=America/Chicago:20280513T120000
DTSTAMP:20260425T104121
CREATED:20230118T184150Z
LAST-MODIFIED:20230601T154633Z
UID:10001550-1841821200-1841832000@trellisconnects.org
SUMMARY:Second Saturday for Caregivers
DESCRIPTION:Join Normandale Center for Healing & Wholeness for their free Second Saturday program each month which includes a 90 minute education session beginning at 9:00 am and a support group meeting directly afterwards at 10:30 am. The morning education session provides powerful tools and coping skills for you the caregiver. \nRespite is available for your loved one from 9 am – 12pm with advanced registration.
URL:https://trellisconnects.org/cc-event/second-saturday-for-caregivers/2028-05-13/
LOCATION:Normandale Center for Healing & Wholeness\, 6100 Normandale Road\, 2nd Floor\, Edina\, Minnesota\, 55436\, United States
CATEGORIES:Caregiver Education
END:VEVENT
END:VCALENDAR