BEGIN:VCALENDAR
VERSION:2.0
PRODID:-//Trellis - ECPv6.15.20//NONSGML v1.0//EN
CALSCALE:GREGORIAN
METHOD:PUBLISH
X-ORIGINAL-URL:https://trellisconnects.org
X-WR-CALDESC:Events for Trellis
REFRESH-INTERVAL;VALUE=DURATION:PT1H
X-Robots-Tag:noindex
X-PUBLISHED-TTL:PT1H
BEGIN:VTIMEZONE
TZID:America/Chicago
BEGIN:DAYLIGHT
TZOFFSETFROM:-0600
TZOFFSETTO:-0500
TZNAME:CDT
DTSTART:20230312T080000
END:DAYLIGHT
BEGIN:STANDARD
TZOFFSETFROM:-0500
TZOFFSETTO:-0600
TZNAME:CST
DTSTART:20231105T070000
END:STANDARD
BEGIN:DAYLIGHT
TZOFFSETFROM:-0600
TZOFFSETTO:-0500
TZNAME:CDT
DTSTART:20240310T080000
END:DAYLIGHT
BEGIN:STANDARD
TZOFFSETFROM:-0500
TZOFFSETTO:-0600
TZNAME:CST
DTSTART:20241103T070000
END:STANDARD
BEGIN:DAYLIGHT
TZOFFSETFROM:-0600
TZOFFSETTO:-0500
TZNAME:CDT
DTSTART:20250309T080000
END:DAYLIGHT
BEGIN:STANDARD
TZOFFSETFROM:-0500
TZOFFSETTO:-0600
TZNAME:CST
DTSTART:20251102T070000
END:STANDARD
BEGIN:DAYLIGHT
TZOFFSETFROM:-0600
TZOFFSETTO:-0500
TZNAME:CDT
DTSTART:20260308T080000
END:DAYLIGHT
BEGIN:STANDARD
TZOFFSETFROM:-0500
TZOFFSETTO:-0600
TZNAME:CST
DTSTART:20261101T070000
END:STANDARD
BEGIN:DAYLIGHT
TZOFFSETFROM:-0600
TZOFFSETTO:-0500
TZNAME:CDT
DTSTART:20270314T080000
END:DAYLIGHT
BEGIN:STANDARD
TZOFFSETFROM:-0500
TZOFFSETTO:-0600
TZNAME:CST
DTSTART:20271107T070000
END:STANDARD
END:VTIMEZONE
BEGIN:VEVENT
DTSTART;TZID=America/Chicago:20260411T090000
DTEND;TZID=America/Chicago:20260411T120000
DTSTAMP:20260425T104243
CREATED:20230118T184150Z
LAST-MODIFIED:20230601T154633Z
UID:10001525-1775898000-1775908800@trellisconnects.org
SUMMARY:Second Saturday for Caregivers
DESCRIPTION:Join Normandale Center for Healing & Wholeness for their free Second Saturday program each month which includes a 90 minute education session beginning at 9:00 am and a support group meeting directly afterwards at 10:30 am. The morning education session provides powerful tools and coping skills for you the caregiver. \nRespite is available for your loved one from 9 am – 12pm with advanced registration.
URL:https://trellisconnects.org/cc-event/second-saturday-for-caregivers/2026-04-11/
LOCATION:Normandale Center for Healing & Wholeness\, 6100 Normandale Road\, 2nd Floor\, Edina\, Minnesota\, 55436\, United States
CATEGORIES:Caregiver Education
END:VEVENT
BEGIN:VEVENT
DTSTART;TZID=America/Chicago:20260314T090000
DTEND;TZID=America/Chicago:20260314T120000
DTSTAMP:20260425T104243
CREATED:20230118T184150Z
LAST-MODIFIED:20230601T154633Z
UID:10001524-1773478800-1773489600@trellisconnects.org
SUMMARY:Second Saturday for Caregivers
DESCRIPTION:Join Normandale Center for Healing & Wholeness for their free Second Saturday program each month which includes a 90 minute education session beginning at 9:00 am and a support group meeting directly afterwards at 10:30 am. The morning education session provides powerful tools and coping skills for you the caregiver. \nRespite is available for your loved one from 9 am – 12pm with advanced registration.
URL:https://trellisconnects.org/cc-event/second-saturday-for-caregivers/2026-03-14/
LOCATION:Normandale Center for Healing & Wholeness\, 6100 Normandale Road\, 2nd Floor\, Edina\, Minnesota\, 55436\, United States
CATEGORIES:Caregiver Education
END:VEVENT
BEGIN:VEVENT
DTSTART;TZID=America/Chicago:20260214T090000
DTEND;TZID=America/Chicago:20260214T120000
DTSTAMP:20260425T104243
CREATED:20230118T184150Z
LAST-MODIFIED:20230601T154633Z
UID:10001523-1771059600-1771070400@trellisconnects.org
SUMMARY:Second Saturday for Caregivers
DESCRIPTION:Join Normandale Center for Healing & Wholeness for their free Second Saturday program each month which includes a 90 minute education session beginning at 9:00 am and a support group meeting directly afterwards at 10:30 am. The morning education session provides powerful tools and coping skills for you the caregiver. \nRespite is available for your loved one from 9 am – 12pm with advanced registration.
URL:https://trellisconnects.org/cc-event/second-saturday-for-caregivers/2026-02-14/
LOCATION:Normandale Center for Healing & Wholeness\, 6100 Normandale Road\, 2nd Floor\, Edina\, Minnesota\, 55436\, United States
CATEGORIES:Caregiver Education
END:VEVENT
BEGIN:VEVENT
DTSTART;TZID=America/Chicago:20260110T090000
DTEND;TZID=America/Chicago:20260110T120000
DTSTAMP:20260425T104243
CREATED:20230118T184150Z
LAST-MODIFIED:20230601T154633Z
UID:10001522-1768035600-1768046400@trellisconnects.org
SUMMARY:Second Saturday for Caregivers
DESCRIPTION:Join Normandale Center for Healing & Wholeness for their free Second Saturday program each month which includes a 90 minute education session beginning at 9:00 am and a support group meeting directly afterwards at 10:30 am. The morning education session provides powerful tools and coping skills for you the caregiver. \nRespite is available for your loved one from 9 am – 12pm with advanced registration.
URL:https://trellisconnects.org/cc-event/second-saturday-for-caregivers/2026-01-10/
LOCATION:Normandale Center for Healing & Wholeness\, 6100 Normandale Road\, 2nd Floor\, Edina\, Minnesota\, 55436\, United States
CATEGORIES:Caregiver Education
END:VEVENT
BEGIN:VEVENT
DTSTART;TZID=America/Chicago:20251213T090000
DTEND;TZID=America/Chicago:20251213T120000
DTSTAMP:20260425T104243
CREATED:20240223T160304Z
LAST-MODIFIED:20240223T160306Z
UID:10002305-1765616400-1765627200@trellisconnects.org
SUMMARY:Second Saturday for Caregivers
DESCRIPTION:Join Normandale Center for free caregiver education programming every month. A 90 minute education session begins at 9 am and a support group meets directly afterwards at 10:30 am. Come for one or both sessions. The morning program provides powerful tools and coping skills for caregivers. Respite is available for your loved one from 9 am – 12pm.
URL:https://trellisconnects.org/cc-event/second-saturday-for-caregivers-2/2025-12-13/
LOCATION:Normandale Center for Healing & Wholeness\, 6100 Normandale Road\, 2nd Floor\, Edina\, Minnesota\, 55436\, United States
CATEGORIES:Caregiver Education,Respite,Support Group
END:VEVENT
BEGIN:VEVENT
DTSTART;TZID=America/Chicago:20251213T090000
DTEND;TZID=America/Chicago:20251213T120000
DTSTAMP:20260425T104243
CREATED:20230118T184150Z
LAST-MODIFIED:20230601T154633Z
UID:10001521-1765616400-1765627200@trellisconnects.org
SUMMARY:Second Saturday for Caregivers
DESCRIPTION:Join Normandale Center for Healing & Wholeness for their free Second Saturday program each month which includes a 90 minute education session beginning at 9:00 am and a support group meeting directly afterwards at 10:30 am. The morning education session provides powerful tools and coping skills for you the caregiver. \nRespite is available for your loved one from 9 am – 12pm with advanced registration.
URL:https://trellisconnects.org/cc-event/second-saturday-for-caregivers/2025-12-13/
LOCATION:Normandale Center for Healing & Wholeness\, 6100 Normandale Road\, 2nd Floor\, Edina\, Minnesota\, 55436\, United States
CATEGORIES:Caregiver Education
END:VEVENT
BEGIN:VEVENT
DTSTART;TZID=America/Chicago:20251108T090000
DTEND;TZID=America/Chicago:20251108T120000
DTSTAMP:20260425T104243
CREATED:20240223T160304Z
LAST-MODIFIED:20240223T160306Z
UID:10002304-1762592400-1762603200@trellisconnects.org
SUMMARY:Second Saturday for Caregivers
DESCRIPTION:Join Normandale Center for free caregiver education programming every month. A 90 minute education session begins at 9 am and a support group meets directly afterwards at 10:30 am. Come for one or both sessions. The morning program provides powerful tools and coping skills for caregivers. Respite is available for your loved one from 9 am – 12pm.
URL:https://trellisconnects.org/cc-event/second-saturday-for-caregivers-2/2025-11-08/
LOCATION:Normandale Center for Healing & Wholeness\, 6100 Normandale Road\, 2nd Floor\, Edina\, Minnesota\, 55436\, United States
CATEGORIES:Caregiver Education,Respite,Support Group
END:VEVENT
BEGIN:VEVENT
DTSTART;TZID=America/Chicago:20251108T090000
DTEND;TZID=America/Chicago:20251108T120000
DTSTAMP:20260425T104243
CREATED:20230118T184150Z
LAST-MODIFIED:20230601T154633Z
UID:10001520-1762592400-1762603200@trellisconnects.org
SUMMARY:Second Saturday for Caregivers
DESCRIPTION:Join Normandale Center for Healing & Wholeness for their free Second Saturday program each month which includes a 90 minute education session beginning at 9:00 am and a support group meeting directly afterwards at 10:30 am. The morning education session provides powerful tools and coping skills for you the caregiver. \nRespite is available for your loved one from 9 am – 12pm with advanced registration.
URL:https://trellisconnects.org/cc-event/second-saturday-for-caregivers/2025-11-08/
LOCATION:Normandale Center for Healing & Wholeness\, 6100 Normandale Road\, 2nd Floor\, Edina\, Minnesota\, 55436\, United States
CATEGORIES:Caregiver Education
END:VEVENT
BEGIN:VEVENT
DTSTART;TZID=America/Chicago:20251011T090000
DTEND;TZID=America/Chicago:20251011T120000
DTSTAMP:20260425T104243
CREATED:20250912T205439Z
LAST-MODIFIED:20250912T205441Z
UID:10003507-1760173200-1760184000@trellisconnects.org
SUMMARY:Second Saturday for Caregivers
DESCRIPTION:Join Normandale Center for Healing & Wholeness for their free Second Saturday program each month which includes a 90-minute education session beginning at 9:00 am and support group meetings directly afterwards at 10:30 am. The morning education session provides powerful tools and coping skills for you the caregiver. \nRespite is available for your loved one from 9:00 am – 12:00 pm with advanced registration.
URL:https://trellisconnects.org/cc-event/second-saturday-for-caregivers-3/2025-10-11/
LOCATION:Normandale Center for Healing & Wholeness\, 6100 Normandale Road\, 2nd Floor\, Edina\, Minnesota\, 55436\, United States
CATEGORIES:Caregiver Education,Respite,Support Group
ATTACH;FMTTYPE=image/png:https://trellisconnects.org/wp-content/uploads/2025/08/Second-Saturday-logo-Butterfly-1.png
END:VEVENT
BEGIN:VEVENT
DTSTART;TZID=America/Chicago:20251011T090000
DTEND;TZID=America/Chicago:20251011T120000
DTSTAMP:20260425T104243
CREATED:20240223T160304Z
LAST-MODIFIED:20240223T160306Z
UID:10002303-1760173200-1760184000@trellisconnects.org
SUMMARY:Second Saturday for Caregivers
DESCRIPTION:Join Normandale Center for free caregiver education programming every month. A 90 minute education session begins at 9 am and a support group meets directly afterwards at 10:30 am. Come for one or both sessions. The morning program provides powerful tools and coping skills for caregivers. Respite is available for your loved one from 9 am – 12pm.
URL:https://trellisconnects.org/cc-event/second-saturday-for-caregivers-2/2025-10-11/
LOCATION:Normandale Center for Healing & Wholeness\, 6100 Normandale Road\, 2nd Floor\, Edina\, Minnesota\, 55436\, United States
CATEGORIES:Caregiver Education,Respite,Support Group
END:VEVENT
BEGIN:VEVENT
DTSTART;TZID=America/Chicago:20251011T090000
DTEND;TZID=America/Chicago:20251011T120000
DTSTAMP:20260425T104243
CREATED:20230118T184150Z
LAST-MODIFIED:20230601T154633Z
UID:10001519-1760173200-1760184000@trellisconnects.org
SUMMARY:Second Saturday for Caregivers
DESCRIPTION:Join Normandale Center for Healing & Wholeness for their free Second Saturday program each month which includes a 90 minute education session beginning at 9:00 am and a support group meeting directly afterwards at 10:30 am. The morning education session provides powerful tools and coping skills for you the caregiver. \nRespite is available for your loved one from 9 am – 12pm with advanced registration.
URL:https://trellisconnects.org/cc-event/second-saturday-for-caregivers/2025-10-11/
LOCATION:Normandale Center for Healing & Wholeness\, 6100 Normandale Road\, 2nd Floor\, Edina\, Minnesota\, 55436\, United States
CATEGORIES:Caregiver Education
END:VEVENT
BEGIN:VEVENT
DTSTART;TZID=America/Chicago:20250913T090000
DTEND;TZID=America/Chicago:20250913T120000
DTSTAMP:20260425T104243
CREATED:20240223T160304Z
LAST-MODIFIED:20240223T160306Z
UID:10002302-1757754000-1757764800@trellisconnects.org
SUMMARY:Second Saturday for Caregivers
DESCRIPTION:Join Normandale Center for free caregiver education programming every month. A 90 minute education session begins at 9 am and a support group meets directly afterwards at 10:30 am. Come for one or both sessions. The morning program provides powerful tools and coping skills for caregivers. Respite is available for your loved one from 9 am – 12pm.
URL:https://trellisconnects.org/cc-event/second-saturday-for-caregivers-2/2025-09-13/
LOCATION:Normandale Center for Healing & Wholeness\, 6100 Normandale Road\, 2nd Floor\, Edina\, Minnesota\, 55436\, United States
CATEGORIES:Caregiver Education,Respite,Support Group
END:VEVENT
BEGIN:VEVENT
DTSTART;TZID=America/Chicago:20250913T090000
DTEND;TZID=America/Chicago:20250913T120000
DTSTAMP:20260425T104243
CREATED:20230118T184150Z
LAST-MODIFIED:20230601T154633Z
UID:10001518-1757754000-1757764800@trellisconnects.org
SUMMARY:Second Saturday for Caregivers
DESCRIPTION:Join Normandale Center for Healing & Wholeness for their free Second Saturday program each month which includes a 90 minute education session beginning at 9:00 am and a support group meeting directly afterwards at 10:30 am. The morning education session provides powerful tools and coping skills for you the caregiver. \nRespite is available for your loved one from 9 am – 12pm with advanced registration.
URL:https://trellisconnects.org/cc-event/second-saturday-for-caregivers/2025-09-13/
LOCATION:Normandale Center for Healing & Wholeness\, 6100 Normandale Road\, 2nd Floor\, Edina\, Minnesota\, 55436\, United States
CATEGORIES:Caregiver Education
END:VEVENT
BEGIN:VEVENT
DTSTART;TZID=America/Chicago:20250809T090000
DTEND;TZID=America/Chicago:20250809T120000
DTSTAMP:20260425T104243
CREATED:20240223T160304Z
LAST-MODIFIED:20240223T160306Z
UID:10002301-1754730000-1754740800@trellisconnects.org
SUMMARY:Second Saturday for Caregivers
DESCRIPTION:Join Normandale Center for free caregiver education programming every month. A 90 minute education session begins at 9 am and a support group meets directly afterwards at 10:30 am. Come for one or both sessions. The morning program provides powerful tools and coping skills for caregivers. Respite is available for your loved one from 9 am – 12pm.
URL:https://trellisconnects.org/cc-event/second-saturday-for-caregivers-2/2025-08-09/
LOCATION:Normandale Center for Healing & Wholeness\, 6100 Normandale Road\, 2nd Floor\, Edina\, Minnesota\, 55436\, United States
CATEGORIES:Caregiver Education,Respite,Support Group
END:VEVENT
BEGIN:VEVENT
DTSTART;TZID=America/Chicago:20250809T090000
DTEND;TZID=America/Chicago:20250809T120000
DTSTAMP:20260425T104243
CREATED:20230118T184150Z
LAST-MODIFIED:20230601T154633Z
UID:10001517-1754730000-1754740800@trellisconnects.org
SUMMARY:Second Saturday for Caregivers
DESCRIPTION:Join Normandale Center for Healing & Wholeness for their free Second Saturday program each month which includes a 90 minute education session beginning at 9:00 am and a support group meeting directly afterwards at 10:30 am. The morning education session provides powerful tools and coping skills for you the caregiver. \nRespite is available for your loved one from 9 am – 12pm with advanced registration.
URL:https://trellisconnects.org/cc-event/second-saturday-for-caregivers/2025-08-09/
LOCATION:Normandale Center for Healing & Wholeness\, 6100 Normandale Road\, 2nd Floor\, Edina\, Minnesota\, 55436\, United States
CATEGORIES:Caregiver Education
END:VEVENT
BEGIN:VEVENT
DTSTART;TZID=America/Chicago:20250712T090000
DTEND;TZID=America/Chicago:20250712T120000
DTSTAMP:20260425T104243
CREATED:20240223T160304Z
LAST-MODIFIED:20240223T160306Z
UID:10002300-1752310800-1752321600@trellisconnects.org
SUMMARY:Second Saturday for Caregivers
DESCRIPTION:Join Normandale Center for free caregiver education programming every month. A 90 minute education session begins at 9 am and a support group meets directly afterwards at 10:30 am. Come for one or both sessions. The morning program provides powerful tools and coping skills for caregivers. Respite is available for your loved one from 9 am – 12pm.
URL:https://trellisconnects.org/cc-event/second-saturday-for-caregivers-2/2025-07-12/
LOCATION:Normandale Center for Healing & Wholeness\, 6100 Normandale Road\, 2nd Floor\, Edina\, Minnesota\, 55436\, United States
CATEGORIES:Caregiver Education,Respite,Support Group
END:VEVENT
BEGIN:VEVENT
DTSTART;TZID=America/Chicago:20250712T090000
DTEND;TZID=America/Chicago:20250712T120000
DTSTAMP:20260425T104243
CREATED:20230118T184150Z
LAST-MODIFIED:20230601T154633Z
UID:10001516-1752310800-1752321600@trellisconnects.org
SUMMARY:Second Saturday for Caregivers
DESCRIPTION:Join Normandale Center for Healing & Wholeness for their free Second Saturday program each month which includes a 90 minute education session beginning at 9:00 am and a support group meeting directly afterwards at 10:30 am. The morning education session provides powerful tools and coping skills for you the caregiver. \nRespite is available for your loved one from 9 am – 12pm with advanced registration.
URL:https://trellisconnects.org/cc-event/second-saturday-for-caregivers/2025-07-12/
LOCATION:Normandale Center for Healing & Wholeness\, 6100 Normandale Road\, 2nd Floor\, Edina\, Minnesota\, 55436\, United States
CATEGORIES:Caregiver Education
END:VEVENT
BEGIN:VEVENT
DTSTART;TZID=America/Chicago:20250614T090000
DTEND;TZID=America/Chicago:20250614T120000
DTSTAMP:20260425T104243
CREATED:20240223T160304Z
LAST-MODIFIED:20240223T160306Z
UID:10002299-1749891600-1749902400@trellisconnects.org
SUMMARY:Second Saturday for Caregivers
DESCRIPTION:Join Normandale Center for free caregiver education programming every month. A 90 minute education session begins at 9 am and a support group meets directly afterwards at 10:30 am. Come for one or both sessions. The morning program provides powerful tools and coping skills for caregivers. Respite is available for your loved one from 9 am – 12pm.
URL:https://trellisconnects.org/cc-event/second-saturday-for-caregivers-2/2025-06-14/
LOCATION:Normandale Center for Healing & Wholeness\, 6100 Normandale Road\, 2nd Floor\, Edina\, Minnesota\, 55436\, United States
CATEGORIES:Caregiver Education,Respite,Support Group
END:VEVENT
BEGIN:VEVENT
DTSTART;TZID=America/Chicago:20250614T090000
DTEND;TZID=America/Chicago:20250614T120000
DTSTAMP:20260425T104243
CREATED:20230118T184150Z
LAST-MODIFIED:20230601T154633Z
UID:10001515-1749891600-1749902400@trellisconnects.org
SUMMARY:Second Saturday for Caregivers
DESCRIPTION:Join Normandale Center for Healing & Wholeness for their free Second Saturday program each month which includes a 90 minute education session beginning at 9:00 am and a support group meeting directly afterwards at 10:30 am. The morning education session provides powerful tools and coping skills for you the caregiver. \nRespite is available for your loved one from 9 am – 12pm with advanced registration.
URL:https://trellisconnects.org/cc-event/second-saturday-for-caregivers/2025-06-14/
LOCATION:Normandale Center for Healing & Wholeness\, 6100 Normandale Road\, 2nd Floor\, Edina\, Minnesota\, 55436\, United States
CATEGORIES:Caregiver Education
END:VEVENT
BEGIN:VEVENT
DTSTART;TZID=America/Chicago:20250510T090000
DTEND;TZID=America/Chicago:20250510T120000
DTSTAMP:20260425T104243
CREATED:20240223T160304Z
LAST-MODIFIED:20240223T160306Z
UID:10002298-1746867600-1746878400@trellisconnects.org
SUMMARY:Second Saturday for Caregivers
DESCRIPTION:Join Normandale Center for free caregiver education programming every month. A 90 minute education session begins at 9 am and a support group meets directly afterwards at 10:30 am. Come for one or both sessions. The morning program provides powerful tools and coping skills for caregivers. Respite is available for your loved one from 9 am – 12pm.
URL:https://trellisconnects.org/cc-event/second-saturday-for-caregivers-2/2025-05-10/
LOCATION:Normandale Center for Healing & Wholeness\, 6100 Normandale Road\, 2nd Floor\, Edina\, Minnesota\, 55436\, United States
CATEGORIES:Caregiver Education,Respite,Support Group
END:VEVENT
BEGIN:VEVENT
DTSTART;TZID=America/Chicago:20250510T090000
DTEND;TZID=America/Chicago:20250510T120000
DTSTAMP:20260425T104243
CREATED:20230118T184150Z
LAST-MODIFIED:20230601T154633Z
UID:10001514-1746867600-1746878400@trellisconnects.org
SUMMARY:Second Saturday for Caregivers
DESCRIPTION:Join Normandale Center for Healing & Wholeness for their free Second Saturday program each month which includes a 90 minute education session beginning at 9:00 am and a support group meeting directly afterwards at 10:30 am. The morning education session provides powerful tools and coping skills for you the caregiver. \nRespite is available for your loved one from 9 am – 12pm with advanced registration.
URL:https://trellisconnects.org/cc-event/second-saturday-for-caregivers/2025-05-10/
LOCATION:Normandale Center for Healing & Wholeness\, 6100 Normandale Road\, 2nd Floor\, Edina\, Minnesota\, 55436\, United States
CATEGORIES:Caregiver Education
END:VEVENT
BEGIN:VEVENT
DTSTART;TZID=America/Chicago:20250412T090000
DTEND;TZID=America/Chicago:20250412T120000
DTSTAMP:20260425T104243
CREATED:20240223T160304Z
LAST-MODIFIED:20240223T160306Z
UID:10002297-1744448400-1744459200@trellisconnects.org
SUMMARY:Second Saturday for Caregivers
DESCRIPTION:Join Normandale Center for free caregiver education programming every month. A 90 minute education session begins at 9 am and a support group meets directly afterwards at 10:30 am. Come for one or both sessions. The morning program provides powerful tools and coping skills for caregivers. Respite is available for your loved one from 9 am – 12pm.
URL:https://trellisconnects.org/cc-event/second-saturday-for-caregivers-2/2025-04-12/
LOCATION:Normandale Center for Healing & Wholeness\, 6100 Normandale Road\, 2nd Floor\, Edina\, Minnesota\, 55436\, United States
CATEGORIES:Caregiver Education,Respite,Support Group
END:VEVENT
BEGIN:VEVENT
DTSTART;TZID=America/Chicago:20250412T090000
DTEND;TZID=America/Chicago:20250412T120000
DTSTAMP:20260425T104243
CREATED:20230118T184150Z
LAST-MODIFIED:20230601T154633Z
UID:10001513-1744448400-1744459200@trellisconnects.org
SUMMARY:Second Saturday for Caregivers
DESCRIPTION:Join Normandale Center for Healing & Wholeness for their free Second Saturday program each month which includes a 90 minute education session beginning at 9:00 am and a support group meeting directly afterwards at 10:30 am. The morning education session provides powerful tools and coping skills for you the caregiver. \nRespite is available for your loved one from 9 am – 12pm with advanced registration.
URL:https://trellisconnects.org/cc-event/second-saturday-for-caregivers/2025-04-12/
LOCATION:Normandale Center for Healing & Wholeness\, 6100 Normandale Road\, 2nd Floor\, Edina\, Minnesota\, 55436\, United States
CATEGORIES:Caregiver Education
END:VEVENT
BEGIN:VEVENT
DTSTART;TZID=America/Chicago:20250308T090000
DTEND;TZID=America/Chicago:20250308T120000
DTSTAMP:20260425T104243
CREATED:20240223T160304Z
LAST-MODIFIED:20240223T160306Z
UID:10002296-1741424400-1741435200@trellisconnects.org
SUMMARY:Second Saturday for Caregivers
DESCRIPTION:Join Normandale Center for free caregiver education programming every month. A 90 minute education session begins at 9 am and a support group meets directly afterwards at 10:30 am. Come for one or both sessions. The morning program provides powerful tools and coping skills for caregivers. Respite is available for your loved one from 9 am – 12pm.
URL:https://trellisconnects.org/cc-event/second-saturday-for-caregivers-2/2025-03-08/
LOCATION:Normandale Center for Healing & Wholeness\, 6100 Normandale Road\, 2nd Floor\, Edina\, Minnesota\, 55436\, United States
CATEGORIES:Caregiver Education,Respite,Support Group
END:VEVENT
BEGIN:VEVENT
DTSTART;TZID=America/Chicago:20250308T090000
DTEND;TZID=America/Chicago:20250308T120000
DTSTAMP:20260425T104243
CREATED:20230118T184150Z
LAST-MODIFIED:20230601T154633Z
UID:10001512-1741424400-1741435200@trellisconnects.org
SUMMARY:Second Saturday for Caregivers
DESCRIPTION:Join Normandale Center for Healing & Wholeness for their free Second Saturday program each month which includes a 90 minute education session beginning at 9:00 am and a support group meeting directly afterwards at 10:30 am. The morning education session provides powerful tools and coping skills for you the caregiver. \nRespite is available for your loved one from 9 am – 12pm with advanced registration.
URL:https://trellisconnects.org/cc-event/second-saturday-for-caregivers/2025-03-08/
LOCATION:Normandale Center for Healing & Wholeness\, 6100 Normandale Road\, 2nd Floor\, Edina\, Minnesota\, 55436\, United States
CATEGORIES:Caregiver Education
END:VEVENT
BEGIN:VEVENT
DTSTART;TZID=America/Chicago:20250208T090000
DTEND;TZID=America/Chicago:20250208T120000
DTSTAMP:20260425T104243
CREATED:20240223T160304Z
LAST-MODIFIED:20240223T160306Z
UID:10002295-1739005200-1739016000@trellisconnects.org
SUMMARY:Second Saturday for Caregivers
DESCRIPTION:Join Normandale Center for free caregiver education programming every month. A 90 minute education session begins at 9 am and a support group meets directly afterwards at 10:30 am. Come for one or both sessions. The morning program provides powerful tools and coping skills for caregivers. Respite is available for your loved one from 9 am – 12pm.
URL:https://trellisconnects.org/cc-event/second-saturday-for-caregivers-2/2025-02-08/
LOCATION:Normandale Center for Healing & Wholeness\, 6100 Normandale Road\, 2nd Floor\, Edina\, Minnesota\, 55436\, United States
CATEGORIES:Caregiver Education,Respite,Support Group
END:VEVENT
BEGIN:VEVENT
DTSTART;TZID=America/Chicago:20250208T090000
DTEND;TZID=America/Chicago:20250208T120000
DTSTAMP:20260425T104243
CREATED:20230118T184150Z
LAST-MODIFIED:20230601T154633Z
UID:10001511-1739005200-1739016000@trellisconnects.org
SUMMARY:Second Saturday for Caregivers
DESCRIPTION:Join Normandale Center for Healing & Wholeness for their free Second Saturday program each month which includes a 90 minute education session beginning at 9:00 am and a support group meeting directly afterwards at 10:30 am. The morning education session provides powerful tools and coping skills for you the caregiver. \nRespite is available for your loved one from 9 am – 12pm with advanced registration.
URL:https://trellisconnects.org/cc-event/second-saturday-for-caregivers/2025-02-08/
LOCATION:Normandale Center for Healing & Wholeness\, 6100 Normandale Road\, 2nd Floor\, Edina\, Minnesota\, 55436\, United States
CATEGORIES:Caregiver Education
END:VEVENT
BEGIN:VEVENT
DTSTART;TZID=America/Chicago:20250111T090000
DTEND;TZID=America/Chicago:20250111T120000
DTSTAMP:20260425T104243
CREATED:20240223T160304Z
LAST-MODIFIED:20240223T160306Z
UID:10002294-1736586000-1736596800@trellisconnects.org
SUMMARY:Second Saturday for Caregivers
DESCRIPTION:Join Normandale Center for free caregiver education programming every month. A 90 minute education session begins at 9 am and a support group meets directly afterwards at 10:30 am. Come for one or both sessions. The morning program provides powerful tools and coping skills for caregivers. Respite is available for your loved one from 9 am – 12pm.
URL:https://trellisconnects.org/cc-event/second-saturday-for-caregivers-2/2025-01-11/
LOCATION:Normandale Center for Healing & Wholeness\, 6100 Normandale Road\, 2nd Floor\, Edina\, Minnesota\, 55436\, United States
CATEGORIES:Caregiver Education,Respite,Support Group
END:VEVENT
BEGIN:VEVENT
DTSTART;TZID=America/Chicago:20250111T090000
DTEND;TZID=America/Chicago:20250111T120000
DTSTAMP:20260425T104243
CREATED:20230118T184150Z
LAST-MODIFIED:20230601T154633Z
UID:10000099-1736586000-1736596800@trellisconnects.org
SUMMARY:Second Saturday for Caregivers
DESCRIPTION:Join Normandale Center for Healing & Wholeness for their free Second Saturday program each month which includes a 90 minute education session beginning at 9:00 am and a support group meeting directly afterwards at 10:30 am. The morning education session provides powerful tools and coping skills for you the caregiver. \nRespite is available for your loved one from 9 am – 12pm with advanced registration.
URL:https://trellisconnects.org/cc-event/second-saturday-for-caregivers/2025-01-11/
LOCATION:Normandale Center for Healing & Wholeness\, 6100 Normandale Road\, 2nd Floor\, Edina\, Minnesota\, 55436\, United States
CATEGORIES:Caregiver Education
END:VEVENT
BEGIN:VEVENT
DTSTART;TZID=America/Chicago:20241214T090000
DTEND;TZID=America/Chicago:20241214T120000
DTSTAMP:20260425T104243
CREATED:20240223T160304Z
LAST-MODIFIED:20240223T160306Z
UID:10002293-1734166800-1734177600@trellisconnects.org
SUMMARY:Second Saturday for Caregivers
DESCRIPTION:Join Normandale Center for free caregiver education programming every month. A 90 minute education session begins at 9 am and a support group meets directly afterwards at 10:30 am. Come for one or both sessions. The morning program provides powerful tools and coping skills for caregivers. Respite is available for your loved one from 9 am – 12pm.
URL:https://trellisconnects.org/cc-event/second-saturday-for-caregivers-2/2024-12-14/
LOCATION:Normandale Center for Healing & Wholeness\, 6100 Normandale Road\, 2nd Floor\, Edina\, Minnesota\, 55436\, United States
CATEGORIES:Caregiver Education,Respite,Support Group
END:VEVENT
END:VCALENDAR