BEGIN:VCALENDAR
VERSION:2.0
PRODID:-//Trellis - ECPv6.15.20//NONSGML v1.0//EN
CALSCALE:GREGORIAN
METHOD:PUBLISH
X-ORIGINAL-URL:https://trellisconnects.org
X-WR-CALDESC:Events for Trellis
REFRESH-INTERVAL;VALUE=DURATION:PT1H
X-Robots-Tag:noindex
X-PUBLISHED-TTL:PT1H
BEGIN:VTIMEZONE
TZID:America/Chicago
BEGIN:DAYLIGHT
TZOFFSETFROM:-0600
TZOFFSETTO:-0500
TZNAME:CDT
DTSTART:20250309T080000
END:DAYLIGHT
BEGIN:STANDARD
TZOFFSETFROM:-0500
TZOFFSETTO:-0600
TZNAME:CST
DTSTART:20251102T070000
END:STANDARD
BEGIN:DAYLIGHT
TZOFFSETFROM:-0600
TZOFFSETTO:-0500
TZNAME:CDT
DTSTART:20260308T080000
END:DAYLIGHT
BEGIN:STANDARD
TZOFFSETFROM:-0500
TZOFFSETTO:-0600
TZNAME:CST
DTSTART:20261101T070000
END:STANDARD
BEGIN:DAYLIGHT
TZOFFSETFROM:-0600
TZOFFSETTO:-0500
TZNAME:CDT
DTSTART:20270314T080000
END:DAYLIGHT
BEGIN:STANDARD
TZOFFSETFROM:-0500
TZOFFSETTO:-0600
TZNAME:CST
DTSTART:20271107T070000
END:STANDARD
END:VTIMEZONE
BEGIN:VEVENT
DTSTART;TZID=America/Chicago:20260310T100000
DTEND;TZID=America/Chicago:20260310T150000
DTSTAMP:20260422T200707
CREATED:20250207T162113Z
LAST-MODIFIED:20250207T162116Z
UID:10003198-1773136800-1773154800@trellisconnects.org
SUMMARY:The Gathering: Out-of-Home Group Respite
DESCRIPTION:The Gathering is a daytime\, out-of-home group respite program for caregivers and care receivers. The Gathering is a safe\, enjoyable place for seniors living with long-term illness to socialize and receive care. The program provides family caregivers the opportunity to receive several hours of respite. Dedicated and trained volunteers\, supervised by a social worker or nurse\, operate the program. Participants can enjoy fellowship\, lunch\, and activities while caregivers can enjoy support group meetings\, education\, and time away from caregiving. This is an opportunity offered in collaboration with Coon Rapids United Methodist Church on the 2nd and 4th Tuesdays of every month. \n*An assessment must be completed prior to attending group respite. To schedule a needs assessment\, please contact the Coordinator of the Family Caregiver Connection\, Jill Thomas\, at 763-324-1608.
URL:https://trellisconnects.org/cc-event/the-gathering-out-of-home-group-respite/2026-03-10/
LOCATION:Coon Rapids United Methodist Church\, 10506 Hanson Blvd NW\, Coon Rapids\, 55433
CATEGORIES:Memory Cafe,Respite,Support Group
ATTACH;FMTTYPE=image/jpeg:https://trellisconnects.org/wp-content/uploads/2024/12/Logo-5.jpg
ORGANIZER;CN="Anoka County Family Caregiver Connection":MAILTO:jill.thomas@co.anoka.mn.us
END:VEVENT
BEGIN:VEVENT
DTSTART;TZID=America/Chicago:20260310T103000
DTEND;TZID=America/Chicago:20260310T233000
DTSTAMP:20260422T200707
CREATED:20240701T214141Z
LAST-MODIFIED:20240701T214143Z
UID:10002637-1773138600-1773185400@trellisconnects.org
SUMMARY:Virtual Memory Loss Caregiver Support Group
DESCRIPTION:Family and friends who are caring for someone experiencing Alzheimer’s disease or a related dementia are welcome to participate. Groups are facilitated by Lisa Brown\, MSW\, LISW\, Caregiver Services Program Coordinator. This virtual group meets the 2nd Tuesday of each month\, and lasts about one hour. \nIf you are interested in participating in the group\, please contact us at: (651) 632-5320 or caregiving@lyngblomsten.org to sign up.
URL:https://trellisconnects.org/cc-event/virtual-memory-loss-caregiver-support-group/2026-03-10/
LOCATION:Zoom\, MN\, United States
CATEGORIES:Support Group
ATTACH;FMTTYPE=image/jpeg:https://trellisconnects.org/wp-content/uploads/2024/07/Community-Services-Logo-22-002-3.jpg
ORGANIZER;CN="Lyngblomsten Community Services":MAILTO:communityservices@lyngblomsten.org
END:VEVENT
BEGIN:VEVENT
DTSTART;TZID=America/Chicago:20260310T130000
DTEND;TZID=America/Chicago:20260310T140000
DTSTAMP:20260422T200707
CREATED:20230804T133939Z
LAST-MODIFIED:20230804T133941Z
UID:10001673-1773147600-1773151200@trellisconnects.org
SUMMARY:Memory Cafe: Woodbury
DESCRIPTION:A welcoming place for those with memory loss and their caregivers to come together each month. \nCafés will include facilitated conversation and community resources. \nJoin us each month to share\, support and connect with others in your community. \nLemonade and pastries hosted by Kowalski’s. \nSign up by contacting Jenny West at 651.789.4015 or jwest@familymeans.org
URL:https://trellisconnects.org/cc-event/memory-cafe-woodbury-2/2026-03-10/
LOCATION:R.H. Stafford Library\, 8595 Central Park Place\, Woodbury\, 55125
CATEGORIES:Memory Cafe
END:VEVENT
BEGIN:VEVENT
DTSTART;TZID=America/Chicago:20260314T090000
DTEND;TZID=America/Chicago:20260314T120000
DTSTAMP:20260422T200707
CREATED:20230118T184150Z
LAST-MODIFIED:20230601T154633Z
UID:10001524-1773478800-1773489600@trellisconnects.org
SUMMARY:Second Saturday for Caregivers
DESCRIPTION:Join Normandale Center for Healing & Wholeness for their free Second Saturday program each month which includes a 90 minute education session beginning at 9:00 am and a support group meeting directly afterwards at 10:30 am. The morning education session provides powerful tools and coping skills for you the caregiver. \nRespite is available for your loved one from 9 am – 12pm with advanced registration.
URL:https://trellisconnects.org/cc-event/second-saturday-for-caregivers/2026-03-14/
LOCATION:Normandale Center for Healing & Wholeness\, 6100 Normandale Road\, 2nd Floor\, Edina\, Minnesota\, 55436\, United States
CATEGORIES:Caregiver Education
END:VEVENT
BEGIN:VEVENT
DTSTART;TZID=America/Chicago:20260318T110000
DTEND;TZID=America/Chicago:20260318T120000
DTSTAMP:20260422T200707
CREATED:20230808T134410Z
LAST-MODIFIED:20230808T134411Z
UID:10001734-1773831600-1773835200@trellisconnects.org
SUMMARY:Hugo Memory Cafe
DESCRIPTION:A welcoming place for those with memory loss and their caregivers to come together\, socialize\, and connect with each month. \nCafés will include facilitated conversation and community resources. \nJoin us each month to share\, support and connect with others in your community.
URL:https://trellisconnects.org/cc-event/hugo-memory-cafe/2026-03-18/
LOCATION:Blue Heron Grill\, 14725 Victor Hugo Blvd N\, Hugo\, MN\, 55038\, United States
CATEGORIES:Memory Cafe
END:VEVENT
BEGIN:VEVENT
DTSTART;TZID=America/Chicago:20260324T103000
DTEND;TZID=America/Chicago:20260324T113000
DTSTAMP:20260422T200707
CREATED:20251010T163122Z
LAST-MODIFIED:20251010T163136Z
UID:10003519-1774348200-1774351800@trellisconnects.org
SUMMARY:Memory Loss Caregiver Support Group
DESCRIPTION:Caring for someone with dementia can be a long and exhausting journey—but you don’t have to walk it alone. \nJoin a Memory Loss Caregiver Support Group offered by Lyngblomsten Community Services. This group provide a safe\, supportive space to share your caregiving experiences with others while receiving encouragement\, understanding\, and helpful resources. \nRegistration is preferred\, but walk-ins are welcome.For questions or to register\, contact: Lisa Brown\, MSW\, LISW Caregiver Services Coordinator at (651) 632-5320 or caregiving@lyngblomsten.org
URL:https://trellisconnects.org/cc-event/memory-loss-caregiver-support-group/2026-03-24/
LOCATION:Lyngblomsten at Lino Lakes\, 6070 Blanchard Blvd.\, Lino Lakes\, 55014
CATEGORIES:Support Group
ATTACH;FMTTYPE=image/jpeg:https://trellisconnects.org/wp-content/uploads/2025/09/Community-Services-Logo-22-002.jpg
ORGANIZER;CN="Lyngblomsten Community Services":MAILTO:communityservices@lyngblomsten.org
END:VEVENT
END:VCALENDAR