BEGIN:VCALENDAR
VERSION:2.0
PRODID:-//Trellis - ECPv6.15.20//NONSGML v1.0//EN
CALSCALE:GREGORIAN
METHOD:PUBLISH
X-ORIGINAL-URL:https://trellisconnects.org
X-WR-CALDESC:Events for Trellis
REFRESH-INTERVAL;VALUE=DURATION:PT1H
X-Robots-Tag:noindex
X-PUBLISHED-TTL:PT1H
BEGIN:VTIMEZONE
TZID:America/Chicago
BEGIN:DAYLIGHT
TZOFFSETFROM:-0600
TZOFFSETTO:-0500
TZNAME:CDT
DTSTART:20250309T080000
END:DAYLIGHT
BEGIN:STANDARD
TZOFFSETFROM:-0500
TZOFFSETTO:-0600
TZNAME:CST
DTSTART:20251102T070000
END:STANDARD
BEGIN:DAYLIGHT
TZOFFSETFROM:-0600
TZOFFSETTO:-0500
TZNAME:CDT
DTSTART:20260308T080000
END:DAYLIGHT
BEGIN:STANDARD
TZOFFSETFROM:-0500
TZOFFSETTO:-0600
TZNAME:CST
DTSTART:20261101T070000
END:STANDARD
BEGIN:DAYLIGHT
TZOFFSETFROM:-0600
TZOFFSETTO:-0500
TZNAME:CDT
DTSTART:20270314T080000
END:DAYLIGHT
BEGIN:STANDARD
TZOFFSETFROM:-0500
TZOFFSETTO:-0600
TZNAME:CST
DTSTART:20271107T070000
END:STANDARD
BEGIN:DAYLIGHT
TZOFFSETFROM:-0600
TZOFFSETTO:-0500
TZNAME:CDT
DTSTART:20280312T080000
END:DAYLIGHT
BEGIN:STANDARD
TZOFFSETFROM:-0500
TZOFFSETTO:-0600
TZNAME:CST
DTSTART:20281105T070000
END:STANDARD
BEGIN:DAYLIGHT
TZOFFSETFROM:-0600
TZOFFSETTO:-0500
TZNAME:CDT
DTSTART:20290311T080000
END:DAYLIGHT
BEGIN:STANDARD
TZOFFSETFROM:-0500
TZOFFSETTO:-0600
TZNAME:CST
DTSTART:20291104T070000
END:STANDARD
END:VTIMEZONE
BEGIN:VEVENT
DTSTART;TZID=America/Chicago:20260219T130000
DTEND;TZID=America/Chicago:20260219T140000
DTSTAMP:20260425T172251
CREATED:20260120T212018Z
LAST-MODIFIED:20260120T212023Z
UID:10003584-1771506000-1771509600@trellisconnects.org
SUMMARY:Mind Matters: Navigating Delirium Together
DESCRIPTION:Learn how to identify the key differences between delirium and dementia. Explore how to support a person experiencing delirium\, prevention strategies\, and treatment.\n\nPresenter Information: Presenter Information: Carolyn Klaver\, R.N\, Faith Community Nurse\, is the Dementia Specialist for the Faith Community Nurse Network of the Greater Twin Cities. She has over 41 years of nursing experience from hospital\, faith community\, community\, school\, long term- care and home settings. Carolyn has two decades of concentrated work in the dementia field\, working with people living with dementia along with their caregivers.\n\nRSVP by February 18th to receive the meeting link by calling or emailing Jocelyn at 651-789-4051 or jhayden@familymeans.org
URL:https://trellisconnects.org/cc-event/mind-matters-navigating-delirium-together/
LOCATION:Virtual
CATEGORIES:Caregiver Education
ATTACH;FMTTYPE=image/jpeg:https://trellisconnects.org/wp-content/uploads/2025/12/Caregiving-and-Aging-Logo-Horiztonal.jpg
END:VEVENT
BEGIN:VEVENT
DTSTART;TZID=America/Chicago:20260226T123000
DTEND;TZID=America/Chicago:20260226T133000
DTSTAMP:20260425T172251
CREATED:20260120T211943Z
LAST-MODIFIED:20260120T211949Z
UID:10003586-1772109000-1772112600@trellisconnects.org
SUMMARY:My parents are getting older: What do I need to know?
DESCRIPTION:As parents age\, adult children provide more support for their aging parents. What do you know about their health history\, financial assets\, and long-term wishes? It is important to gather the right information\, initiate those difficult conversations\, understand your changing roles\, and learn more about the resources that can help as your parent ages.\n\nPresented by Jenny West of FamilyMeans at Oakdale Library. Registration is recommended\, but not required.\n\nhttps://washcolib.libcal.com/event/15930810
URL:https://trellisconnects.org/cc-event/my-parents-are-getting-older-what-do-i-need-to-know/
LOCATION:Oakdale Library\, 1010 Heron Ave N\, Oakdale\, 55128
CATEGORIES:Caregiver Education
ATTACH;FMTTYPE=image/jpeg:https://trellisconnects.org/wp-content/uploads/2025/12/Caregiving-and-Aging-Logo-Horiztonal-2.jpg
END:VEVENT
BEGIN:VEVENT
DTSTART;TZID=America/Chicago:20260314T090000
DTEND;TZID=America/Chicago:20260314T120000
DTSTAMP:20260425T172251
CREATED:20230118T184150Z
LAST-MODIFIED:20230601T154633Z
UID:10001524-1773478800-1773489600@trellisconnects.org
SUMMARY:Second Saturday for Caregivers
DESCRIPTION:Join Normandale Center for Healing & Wholeness for their free Second Saturday program each month which includes a 90 minute education session beginning at 9:00 am and a support group meeting directly afterwards at 10:30 am. The morning education session provides powerful tools and coping skills for you the caregiver. \nRespite is available for your loved one from 9 am – 12pm with advanced registration.
URL:https://trellisconnects.org/cc-event/second-saturday-for-caregivers/2026-03-14/
LOCATION:Normandale Center for Healing & Wholeness\, 6100 Normandale Road\, 2nd Floor\, Edina\, Minnesota\, 55436\, United States
CATEGORIES:Caregiver Education
END:VEVENT
BEGIN:VEVENT
DTSTART;TZID=America/Chicago:20260411T090000
DTEND;TZID=America/Chicago:20260411T120000
DTSTAMP:20260425T172251
CREATED:20230118T184150Z
LAST-MODIFIED:20230601T154633Z
UID:10001525-1775898000-1775908800@trellisconnects.org
SUMMARY:Second Saturday for Caregivers
DESCRIPTION:Join Normandale Center for Healing & Wholeness for their free Second Saturday program each month which includes a 90 minute education session beginning at 9:00 am and a support group meeting directly afterwards at 10:30 am. The morning education session provides powerful tools and coping skills for you the caregiver. \nRespite is available for your loved one from 9 am – 12pm with advanced registration.
URL:https://trellisconnects.org/cc-event/second-saturday-for-caregivers/2026-04-11/
LOCATION:Normandale Center for Healing & Wholeness\, 6100 Normandale Road\, 2nd Floor\, Edina\, Minnesota\, 55436\, United States
CATEGORIES:Caregiver Education
END:VEVENT
BEGIN:VEVENT
DTSTART;TZID=America/Chicago:20260509T090000
DTEND;TZID=America/Chicago:20260509T120000
DTSTAMP:20260425T172251
CREATED:20230118T184150Z
LAST-MODIFIED:20230601T154633Z
UID:10001526-1778317200-1778328000@trellisconnects.org
SUMMARY:Second Saturday for Caregivers
DESCRIPTION:Join Normandale Center for Healing & Wholeness for their free Second Saturday program each month which includes a 90 minute education session beginning at 9:00 am and a support group meeting directly afterwards at 10:30 am. The morning education session provides powerful tools and coping skills for you the caregiver. \nRespite is available for your loved one from 9 am – 12pm with advanced registration.
URL:https://trellisconnects.org/cc-event/second-saturday-for-caregivers/2026-05-09/
LOCATION:Normandale Center for Healing & Wholeness\, 6100 Normandale Road\, 2nd Floor\, Edina\, Minnesota\, 55436\, United States
CATEGORIES:Caregiver Education
END:VEVENT
BEGIN:VEVENT
DTSTART;TZID=America/Chicago:20260613T090000
DTEND;TZID=America/Chicago:20260613T120000
DTSTAMP:20260425T172251
CREATED:20230118T184150Z
LAST-MODIFIED:20230601T154633Z
UID:10001527-1781341200-1781352000@trellisconnects.org
SUMMARY:Second Saturday for Caregivers
DESCRIPTION:Join Normandale Center for Healing & Wholeness for their free Second Saturday program each month which includes a 90 minute education session beginning at 9:00 am and a support group meeting directly afterwards at 10:30 am. The morning education session provides powerful tools and coping skills for you the caregiver. \nRespite is available for your loved one from 9 am – 12pm with advanced registration.
URL:https://trellisconnects.org/cc-event/second-saturday-for-caregivers/2026-06-13/
LOCATION:Normandale Center for Healing & Wholeness\, 6100 Normandale Road\, 2nd Floor\, Edina\, Minnesota\, 55436\, United States
CATEGORIES:Caregiver Education
END:VEVENT
BEGIN:VEVENT
DTSTART;TZID=America/Chicago:20260711T090000
DTEND;TZID=America/Chicago:20260711T120000
DTSTAMP:20260425T172251
CREATED:20230118T184150Z
LAST-MODIFIED:20230601T154633Z
UID:10001528-1783760400-1783771200@trellisconnects.org
SUMMARY:Second Saturday for Caregivers
DESCRIPTION:Join Normandale Center for Healing & Wholeness for their free Second Saturday program each month which includes a 90 minute education session beginning at 9:00 am and a support group meeting directly afterwards at 10:30 am. The morning education session provides powerful tools and coping skills for you the caregiver. \nRespite is available for your loved one from 9 am – 12pm with advanced registration.
URL:https://trellisconnects.org/cc-event/second-saturday-for-caregivers/2026-07-11/
LOCATION:Normandale Center for Healing & Wholeness\, 6100 Normandale Road\, 2nd Floor\, Edina\, Minnesota\, 55436\, United States
CATEGORIES:Caregiver Education
END:VEVENT
BEGIN:VEVENT
DTSTART;TZID=America/Chicago:20260808T090000
DTEND;TZID=America/Chicago:20260808T120000
DTSTAMP:20260425T172251
CREATED:20230118T184150Z
LAST-MODIFIED:20230601T154633Z
UID:10001529-1786179600-1786190400@trellisconnects.org
SUMMARY:Second Saturday for Caregivers
DESCRIPTION:Join Normandale Center for Healing & Wholeness for their free Second Saturday program each month which includes a 90 minute education session beginning at 9:00 am and a support group meeting directly afterwards at 10:30 am. The morning education session provides powerful tools and coping skills for you the caregiver. \nRespite is available for your loved one from 9 am – 12pm with advanced registration.
URL:https://trellisconnects.org/cc-event/second-saturday-for-caregivers/2026-08-08/
LOCATION:Normandale Center for Healing & Wholeness\, 6100 Normandale Road\, 2nd Floor\, Edina\, Minnesota\, 55436\, United States
CATEGORIES:Caregiver Education
END:VEVENT
BEGIN:VEVENT
DTSTART;TZID=America/Chicago:20260912T090000
DTEND;TZID=America/Chicago:20260912T120000
DTSTAMP:20260425T172251
CREATED:20230118T184150Z
LAST-MODIFIED:20230601T154633Z
UID:10001530-1789203600-1789214400@trellisconnects.org
SUMMARY:Second Saturday for Caregivers
DESCRIPTION:Join Normandale Center for Healing & Wholeness for their free Second Saturday program each month which includes a 90 minute education session beginning at 9:00 am and a support group meeting directly afterwards at 10:30 am. The morning education session provides powerful tools and coping skills for you the caregiver. \nRespite is available for your loved one from 9 am – 12pm with advanced registration.
URL:https://trellisconnects.org/cc-event/second-saturday-for-caregivers/2026-09-12/
LOCATION:Normandale Center for Healing & Wholeness\, 6100 Normandale Road\, 2nd Floor\, Edina\, Minnesota\, 55436\, United States
CATEGORIES:Caregiver Education
END:VEVENT
BEGIN:VEVENT
DTSTART;TZID=America/Chicago:20261010T090000
DTEND;TZID=America/Chicago:20261010T120000
DTSTAMP:20260425T172251
CREATED:20230118T184150Z
LAST-MODIFIED:20230601T154633Z
UID:10001531-1791622800-1791633600@trellisconnects.org
SUMMARY:Second Saturday for Caregivers
DESCRIPTION:Join Normandale Center for Healing & Wholeness for their free Second Saturday program each month which includes a 90 minute education session beginning at 9:00 am and a support group meeting directly afterwards at 10:30 am. The morning education session provides powerful tools and coping skills for you the caregiver. \nRespite is available for your loved one from 9 am – 12pm with advanced registration.
URL:https://trellisconnects.org/cc-event/second-saturday-for-caregivers/2026-10-10/
LOCATION:Normandale Center for Healing & Wholeness\, 6100 Normandale Road\, 2nd Floor\, Edina\, Minnesota\, 55436\, United States
CATEGORIES:Caregiver Education
END:VEVENT
BEGIN:VEVENT
DTSTART;TZID=America/Chicago:20261114T090000
DTEND;TZID=America/Chicago:20261114T120000
DTSTAMP:20260425T172251
CREATED:20230118T184150Z
LAST-MODIFIED:20230601T154633Z
UID:10001532-1794646800-1794657600@trellisconnects.org
SUMMARY:Second Saturday for Caregivers
DESCRIPTION:Join Normandale Center for Healing & Wholeness for their free Second Saturday program each month which includes a 90 minute education session beginning at 9:00 am and a support group meeting directly afterwards at 10:30 am. The morning education session provides powerful tools and coping skills for you the caregiver. \nRespite is available for your loved one from 9 am – 12pm with advanced registration.
URL:https://trellisconnects.org/cc-event/second-saturday-for-caregivers/2026-11-14/
LOCATION:Normandale Center for Healing & Wholeness\, 6100 Normandale Road\, 2nd Floor\, Edina\, Minnesota\, 55436\, United States
CATEGORIES:Caregiver Education
END:VEVENT
BEGIN:VEVENT
DTSTART;TZID=America/Chicago:20261212T090000
DTEND;TZID=America/Chicago:20261212T120000
DTSTAMP:20260425T172251
CREATED:20230118T184150Z
LAST-MODIFIED:20230601T154633Z
UID:10001533-1797066000-1797076800@trellisconnects.org
SUMMARY:Second Saturday for Caregivers
DESCRIPTION:Join Normandale Center for Healing & Wholeness for their free Second Saturday program each month which includes a 90 minute education session beginning at 9:00 am and a support group meeting directly afterwards at 10:30 am. The morning education session provides powerful tools and coping skills for you the caregiver. \nRespite is available for your loved one from 9 am – 12pm with advanced registration.
URL:https://trellisconnects.org/cc-event/second-saturday-for-caregivers/2026-12-12/
LOCATION:Normandale Center for Healing & Wholeness\, 6100 Normandale Road\, 2nd Floor\, Edina\, Minnesota\, 55436\, United States
CATEGORIES:Caregiver Education
END:VEVENT
BEGIN:VEVENT
DTSTART;TZID=America/Chicago:20270109T090000
DTEND;TZID=America/Chicago:20270109T120000
DTSTAMP:20260425T172251
CREATED:20230118T184150Z
LAST-MODIFIED:20230601T154633Z
UID:10001534-1799485200-1799496000@trellisconnects.org
SUMMARY:Second Saturday for Caregivers
DESCRIPTION:Join Normandale Center for Healing & Wholeness for their free Second Saturday program each month which includes a 90 minute education session beginning at 9:00 am and a support group meeting directly afterwards at 10:30 am. The morning education session provides powerful tools and coping skills for you the caregiver. \nRespite is available for your loved one from 9 am – 12pm with advanced registration.
URL:https://trellisconnects.org/cc-event/second-saturday-for-caregivers/2027-01-09/
LOCATION:Normandale Center for Healing & Wholeness\, 6100 Normandale Road\, 2nd Floor\, Edina\, Minnesota\, 55436\, United States
CATEGORIES:Caregiver Education
END:VEVENT
BEGIN:VEVENT
DTSTART;TZID=America/Chicago:20270213T090000
DTEND;TZID=America/Chicago:20270213T120000
DTSTAMP:20260425T172251
CREATED:20230118T184150Z
LAST-MODIFIED:20230601T154633Z
UID:10001535-1802509200-1802520000@trellisconnects.org
SUMMARY:Second Saturday for Caregivers
DESCRIPTION:Join Normandale Center for Healing & Wholeness for their free Second Saturday program each month which includes a 90 minute education session beginning at 9:00 am and a support group meeting directly afterwards at 10:30 am. The morning education session provides powerful tools and coping skills for you the caregiver. \nRespite is available for your loved one from 9 am – 12pm with advanced registration.
URL:https://trellisconnects.org/cc-event/second-saturday-for-caregivers/2027-02-13/
LOCATION:Normandale Center for Healing & Wholeness\, 6100 Normandale Road\, 2nd Floor\, Edina\, Minnesota\, 55436\, United States
CATEGORIES:Caregiver Education
END:VEVENT
BEGIN:VEVENT
DTSTART;TZID=America/Chicago:20270313T090000
DTEND;TZID=America/Chicago:20270313T120000
DTSTAMP:20260425T172251
CREATED:20230118T184150Z
LAST-MODIFIED:20230601T154633Z
UID:10001536-1804928400-1804939200@trellisconnects.org
SUMMARY:Second Saturday for Caregivers
DESCRIPTION:Join Normandale Center for Healing & Wholeness for their free Second Saturday program each month which includes a 90 minute education session beginning at 9:00 am and a support group meeting directly afterwards at 10:30 am. The morning education session provides powerful tools and coping skills for you the caregiver. \nRespite is available for your loved one from 9 am – 12pm with advanced registration.
URL:https://trellisconnects.org/cc-event/second-saturday-for-caregivers/2027-03-13/
LOCATION:Normandale Center for Healing & Wholeness\, 6100 Normandale Road\, 2nd Floor\, Edina\, Minnesota\, 55436\, United States
CATEGORIES:Caregiver Education
END:VEVENT
BEGIN:VEVENT
DTSTART;TZID=America/Chicago:20270410T090000
DTEND;TZID=America/Chicago:20270410T120000
DTSTAMP:20260425T172251
CREATED:20230118T184150Z
LAST-MODIFIED:20230601T154633Z
UID:10001537-1807347600-1807358400@trellisconnects.org
SUMMARY:Second Saturday for Caregivers
DESCRIPTION:Join Normandale Center for Healing & Wholeness for their free Second Saturday program each month which includes a 90 minute education session beginning at 9:00 am and a support group meeting directly afterwards at 10:30 am. The morning education session provides powerful tools and coping skills for you the caregiver. \nRespite is available for your loved one from 9 am – 12pm with advanced registration.
URL:https://trellisconnects.org/cc-event/second-saturday-for-caregivers/2027-04-10/
LOCATION:Normandale Center for Healing & Wholeness\, 6100 Normandale Road\, 2nd Floor\, Edina\, Minnesota\, 55436\, United States
CATEGORIES:Caregiver Education
END:VEVENT
BEGIN:VEVENT
DTSTART;TZID=America/Chicago:20270508T090000
DTEND;TZID=America/Chicago:20270508T120000
DTSTAMP:20260425T172251
CREATED:20230118T184150Z
LAST-MODIFIED:20230601T154633Z
UID:10001538-1809766800-1809777600@trellisconnects.org
SUMMARY:Second Saturday for Caregivers
DESCRIPTION:Join Normandale Center for Healing & Wholeness for their free Second Saturday program each month which includes a 90 minute education session beginning at 9:00 am and a support group meeting directly afterwards at 10:30 am. The morning education session provides powerful tools and coping skills for you the caregiver. \nRespite is available for your loved one from 9 am – 12pm with advanced registration.
URL:https://trellisconnects.org/cc-event/second-saturday-for-caregivers/2027-05-08/
LOCATION:Normandale Center for Healing & Wholeness\, 6100 Normandale Road\, 2nd Floor\, Edina\, Minnesota\, 55436\, United States
CATEGORIES:Caregiver Education
END:VEVENT
BEGIN:VEVENT
DTSTART;TZID=America/Chicago:20270612T090000
DTEND;TZID=America/Chicago:20270612T120000
DTSTAMP:20260425T172251
CREATED:20230118T184150Z
LAST-MODIFIED:20230601T154633Z
UID:10001539-1812790800-1812801600@trellisconnects.org
SUMMARY:Second Saturday for Caregivers
DESCRIPTION:Join Normandale Center for Healing & Wholeness for their free Second Saturday program each month which includes a 90 minute education session beginning at 9:00 am and a support group meeting directly afterwards at 10:30 am. The morning education session provides powerful tools and coping skills for you the caregiver. \nRespite is available for your loved one from 9 am – 12pm with advanced registration.
URL:https://trellisconnects.org/cc-event/second-saturday-for-caregivers/2027-06-12/
LOCATION:Normandale Center for Healing & Wholeness\, 6100 Normandale Road\, 2nd Floor\, Edina\, Minnesota\, 55436\, United States
CATEGORIES:Caregiver Education
END:VEVENT
BEGIN:VEVENT
DTSTART;TZID=America/Chicago:20270710T090000
DTEND;TZID=America/Chicago:20270710T120000
DTSTAMP:20260425T172251
CREATED:20230118T184150Z
LAST-MODIFIED:20230601T154633Z
UID:10001540-1815210000-1815220800@trellisconnects.org
SUMMARY:Second Saturday for Caregivers
DESCRIPTION:Join Normandale Center for Healing & Wholeness for their free Second Saturday program each month which includes a 90 minute education session beginning at 9:00 am and a support group meeting directly afterwards at 10:30 am. The morning education session provides powerful tools and coping skills for you the caregiver. \nRespite is available for your loved one from 9 am – 12pm with advanced registration.
URL:https://trellisconnects.org/cc-event/second-saturday-for-caregivers/2027-07-10/
LOCATION:Normandale Center for Healing & Wholeness\, 6100 Normandale Road\, 2nd Floor\, Edina\, Minnesota\, 55436\, United States
CATEGORIES:Caregiver Education
END:VEVENT
BEGIN:VEVENT
DTSTART;TZID=America/Chicago:20270814T090000
DTEND;TZID=America/Chicago:20270814T120000
DTSTAMP:20260425T172251
CREATED:20230118T184150Z
LAST-MODIFIED:20230601T154633Z
UID:10001541-1818234000-1818244800@trellisconnects.org
SUMMARY:Second Saturday for Caregivers
DESCRIPTION:Join Normandale Center for Healing & Wholeness for their free Second Saturday program each month which includes a 90 minute education session beginning at 9:00 am and a support group meeting directly afterwards at 10:30 am. The morning education session provides powerful tools and coping skills for you the caregiver. \nRespite is available for your loved one from 9 am – 12pm with advanced registration.
URL:https://trellisconnects.org/cc-event/second-saturday-for-caregivers/2027-08-14/
LOCATION:Normandale Center for Healing & Wholeness\, 6100 Normandale Road\, 2nd Floor\, Edina\, Minnesota\, 55436\, United States
CATEGORIES:Caregiver Education
END:VEVENT
BEGIN:VEVENT
DTSTART;TZID=America/Chicago:20270911T090000
DTEND;TZID=America/Chicago:20270911T120000
DTSTAMP:20260425T172251
CREATED:20230118T184150Z
LAST-MODIFIED:20230601T154633Z
UID:10001542-1820653200-1820664000@trellisconnects.org
SUMMARY:Second Saturday for Caregivers
DESCRIPTION:Join Normandale Center for Healing & Wholeness for their free Second Saturday program each month which includes a 90 minute education session beginning at 9:00 am and a support group meeting directly afterwards at 10:30 am. The morning education session provides powerful tools and coping skills for you the caregiver. \nRespite is available for your loved one from 9 am – 12pm with advanced registration.
URL:https://trellisconnects.org/cc-event/second-saturday-for-caregivers/2027-09-11/
LOCATION:Normandale Center for Healing & Wholeness\, 6100 Normandale Road\, 2nd Floor\, Edina\, Minnesota\, 55436\, United States
CATEGORIES:Caregiver Education
END:VEVENT
BEGIN:VEVENT
DTSTART;TZID=America/Chicago:20271009T090000
DTEND;TZID=America/Chicago:20271009T120000
DTSTAMP:20260425T172251
CREATED:20230118T184150Z
LAST-MODIFIED:20230601T154633Z
UID:10001543-1823072400-1823083200@trellisconnects.org
SUMMARY:Second Saturday for Caregivers
DESCRIPTION:Join Normandale Center for Healing & Wholeness for their free Second Saturday program each month which includes a 90 minute education session beginning at 9:00 am and a support group meeting directly afterwards at 10:30 am. The morning education session provides powerful tools and coping skills for you the caregiver. \nRespite is available for your loved one from 9 am – 12pm with advanced registration.
URL:https://trellisconnects.org/cc-event/second-saturday-for-caregivers/2027-10-09/
LOCATION:Normandale Center for Healing & Wholeness\, 6100 Normandale Road\, 2nd Floor\, Edina\, Minnesota\, 55436\, United States
CATEGORIES:Caregiver Education
END:VEVENT
BEGIN:VEVENT
DTSTART;TZID=America/Chicago:20271113T090000
DTEND;TZID=America/Chicago:20271113T120000
DTSTAMP:20260425T172251
CREATED:20230118T184150Z
LAST-MODIFIED:20230601T154633Z
UID:10001544-1826096400-1826107200@trellisconnects.org
SUMMARY:Second Saturday for Caregivers
DESCRIPTION:Join Normandale Center for Healing & Wholeness for their free Second Saturday program each month which includes a 90 minute education session beginning at 9:00 am and a support group meeting directly afterwards at 10:30 am. The morning education session provides powerful tools and coping skills for you the caregiver. \nRespite is available for your loved one from 9 am – 12pm with advanced registration.
URL:https://trellisconnects.org/cc-event/second-saturday-for-caregivers/2027-11-13/
LOCATION:Normandale Center for Healing & Wholeness\, 6100 Normandale Road\, 2nd Floor\, Edina\, Minnesota\, 55436\, United States
CATEGORIES:Caregiver Education
END:VEVENT
BEGIN:VEVENT
DTSTART;TZID=America/Chicago:20271211T090000
DTEND;TZID=America/Chicago:20271211T120000
DTSTAMP:20260425T172251
CREATED:20230118T184150Z
LAST-MODIFIED:20230601T154633Z
UID:10001545-1828515600-1828526400@trellisconnects.org
SUMMARY:Second Saturday for Caregivers
DESCRIPTION:Join Normandale Center for Healing & Wholeness for their free Second Saturday program each month which includes a 90 minute education session beginning at 9:00 am and a support group meeting directly afterwards at 10:30 am. The morning education session provides powerful tools and coping skills for you the caregiver. \nRespite is available for your loved one from 9 am – 12pm with advanced registration.
URL:https://trellisconnects.org/cc-event/second-saturday-for-caregivers/2027-12-11/
LOCATION:Normandale Center for Healing & Wholeness\, 6100 Normandale Road\, 2nd Floor\, Edina\, Minnesota\, 55436\, United States
CATEGORIES:Caregiver Education
END:VEVENT
BEGIN:VEVENT
DTSTART;TZID=America/Chicago:20280108T090000
DTEND;TZID=America/Chicago:20280108T120000
DTSTAMP:20260425T172251
CREATED:20230118T184150Z
LAST-MODIFIED:20230601T154633Z
UID:10001546-1830934800-1830945600@trellisconnects.org
SUMMARY:Second Saturday for Caregivers
DESCRIPTION:Join Normandale Center for Healing & Wholeness for their free Second Saturday program each month which includes a 90 minute education session beginning at 9:00 am and a support group meeting directly afterwards at 10:30 am. The morning education session provides powerful tools and coping skills for you the caregiver. \nRespite is available for your loved one from 9 am – 12pm with advanced registration.
URL:https://trellisconnects.org/cc-event/second-saturday-for-caregivers/2028-01-08/
LOCATION:Normandale Center for Healing & Wholeness\, 6100 Normandale Road\, 2nd Floor\, Edina\, Minnesota\, 55436\, United States
CATEGORIES:Caregiver Education
END:VEVENT
BEGIN:VEVENT
DTSTART;TZID=America/Chicago:20280212T090000
DTEND;TZID=America/Chicago:20280212T120000
DTSTAMP:20260425T172251
CREATED:20230118T184150Z
LAST-MODIFIED:20230601T154633Z
UID:10001547-1833958800-1833969600@trellisconnects.org
SUMMARY:Second Saturday for Caregivers
DESCRIPTION:Join Normandale Center for Healing & Wholeness for their free Second Saturday program each month which includes a 90 minute education session beginning at 9:00 am and a support group meeting directly afterwards at 10:30 am. The morning education session provides powerful tools and coping skills for you the caregiver. \nRespite is available for your loved one from 9 am – 12pm with advanced registration.
URL:https://trellisconnects.org/cc-event/second-saturday-for-caregivers/2028-02-12/
LOCATION:Normandale Center for Healing & Wholeness\, 6100 Normandale Road\, 2nd Floor\, Edina\, Minnesota\, 55436\, United States
CATEGORIES:Caregiver Education
END:VEVENT
BEGIN:VEVENT
DTSTART;TZID=America/Chicago:20280311T090000
DTEND;TZID=America/Chicago:20280311T120000
DTSTAMP:20260425T172251
CREATED:20230118T184150Z
LAST-MODIFIED:20230601T154633Z
UID:10001548-1836378000-1836388800@trellisconnects.org
SUMMARY:Second Saturday for Caregivers
DESCRIPTION:Join Normandale Center for Healing & Wholeness for their free Second Saturday program each month which includes a 90 minute education session beginning at 9:00 am and a support group meeting directly afterwards at 10:30 am. The morning education session provides powerful tools and coping skills for you the caregiver. \nRespite is available for your loved one from 9 am – 12pm with advanced registration.
URL:https://trellisconnects.org/cc-event/second-saturday-for-caregivers/2028-03-11/
LOCATION:Normandale Center for Healing & Wholeness\, 6100 Normandale Road\, 2nd Floor\, Edina\, Minnesota\, 55436\, United States
CATEGORIES:Caregiver Education
END:VEVENT
BEGIN:VEVENT
DTSTART;TZID=America/Chicago:20280408T090000
DTEND;TZID=America/Chicago:20280408T120000
DTSTAMP:20260425T172251
CREATED:20230118T184150Z
LAST-MODIFIED:20230601T154633Z
UID:10001549-1838797200-1838808000@trellisconnects.org
SUMMARY:Second Saturday for Caregivers
DESCRIPTION:Join Normandale Center for Healing & Wholeness for their free Second Saturday program each month which includes a 90 minute education session beginning at 9:00 am and a support group meeting directly afterwards at 10:30 am. The morning education session provides powerful tools and coping skills for you the caregiver. \nRespite is available for your loved one from 9 am – 12pm with advanced registration.
URL:https://trellisconnects.org/cc-event/second-saturday-for-caregivers/2028-04-08/
LOCATION:Normandale Center for Healing & Wholeness\, 6100 Normandale Road\, 2nd Floor\, Edina\, Minnesota\, 55436\, United States
CATEGORIES:Caregiver Education
END:VEVENT
BEGIN:VEVENT
DTSTART;TZID=America/Chicago:20280513T090000
DTEND;TZID=America/Chicago:20280513T120000
DTSTAMP:20260425T172251
CREATED:20230118T184150Z
LAST-MODIFIED:20230601T154633Z
UID:10001550-1841821200-1841832000@trellisconnects.org
SUMMARY:Second Saturday for Caregivers
DESCRIPTION:Join Normandale Center for Healing & Wholeness for their free Second Saturday program each month which includes a 90 minute education session beginning at 9:00 am and a support group meeting directly afterwards at 10:30 am. The morning education session provides powerful tools and coping skills for you the caregiver. \nRespite is available for your loved one from 9 am – 12pm with advanced registration.
URL:https://trellisconnects.org/cc-event/second-saturday-for-caregivers/2028-05-13/
LOCATION:Normandale Center for Healing & Wholeness\, 6100 Normandale Road\, 2nd Floor\, Edina\, Minnesota\, 55436\, United States
CATEGORIES:Caregiver Education
END:VEVENT
END:VCALENDAR