BEGIN:VCALENDAR
VERSION:2.0
PRODID:-//Trellis - ECPv6.15.20//NONSGML v1.0//EN
CALSCALE:GREGORIAN
METHOD:PUBLISH
X-ORIGINAL-URL:https://trellisconnects.org
X-WR-CALDESC:Events for Trellis
REFRESH-INTERVAL;VALUE=DURATION:PT1H
X-Robots-Tag:noindex
X-PUBLISHED-TTL:PT1H
BEGIN:VTIMEZONE
TZID:America/Chicago
BEGIN:DAYLIGHT
TZOFFSETFROM:-0600
TZOFFSETTO:-0500
TZNAME:CDT
DTSTART:20240310T080000
END:DAYLIGHT
BEGIN:STANDARD
TZOFFSETFROM:-0500
TZOFFSETTO:-0600
TZNAME:CST
DTSTART:20241103T070000
END:STANDARD
BEGIN:DAYLIGHT
TZOFFSETFROM:-0600
TZOFFSETTO:-0500
TZNAME:CDT
DTSTART:20250309T080000
END:DAYLIGHT
BEGIN:STANDARD
TZOFFSETFROM:-0500
TZOFFSETTO:-0600
TZNAME:CST
DTSTART:20251102T070000
END:STANDARD
BEGIN:DAYLIGHT
TZOFFSETFROM:-0600
TZOFFSETTO:-0500
TZNAME:CDT
DTSTART:20260308T080000
END:DAYLIGHT
BEGIN:STANDARD
TZOFFSETFROM:-0500
TZOFFSETTO:-0600
TZNAME:CST
DTSTART:20261101T070000
END:STANDARD
END:VTIMEZONE
BEGIN:VEVENT
DTSTART;TZID=America/Chicago:20250501T100000
DTEND;TZID=America/Chicago:20250501T120000
DTSTAMP:20260425T104121
CREATED:20241206T204241Z
LAST-MODIFIED:20241206T204243Z
UID:10003103-1746093600-1746100800@trellisconnects.org
SUMMARY:Shaping Your Tomorrow: Dementia & MCI
DESCRIPTION:Shaping Your Tomorrow is designed to meet the needs of both the person with memory loss and a family member or friend. Each week introduces specific topic for education\, planning for the future\, and learning from others on a similar journey. Rich discussions with the full group are followed by separate peer conversations: one for people with memory loss and one for their partners. This is a 10 week session hosted at FamilyMeans in Stillwater. Funded under award with Trellis as part of Older Americans Act. \nInterview and pre-registration required. \nShaping Your Tomorrow provides:\n• An understanding place to gather and know you are not alone\n• A supportive learning environment to gain knowledge and ask questions\n• A chance to talk with others about the dementia experience\n• Detailed information to help plan and build confidence\n• An opportunity to shape your tomorrow \n  \nFor more information please contact FamilyMeans Caregiving & Aging at 651-489-4840 or by emailing familymeans@familymeans.org.
URL:https://trellisconnects.org/cc-event/shaping-your-tomorrow-dementia-mci/2025-05-01/
LOCATION:FamilyMeans\, 1875 Northwestern Avenue S\, Stillwater\, MN\, 55082\, United States
CATEGORIES:Caregiver Education
ATTACH;FMTTYPE=image/jpeg:https://trellisconnects.org/wp-content/uploads/2024/12/Caregiving-and-Aging-Logo-Stacked.jpg
END:VEVENT
BEGIN:VEVENT
DTSTART;TZID=America/Chicago:20250507T100000
DTEND;TZID=America/Chicago:20250507T113000
DTSTAMP:20260425T104121
CREATED:20250501T163849Z
LAST-MODIFIED:20250501T163853Z
UID:10003444-1746612000-1746617400@trellisconnects.org
SUMMARY:Powerful Tools for Caregivers
DESCRIPTION:JFCS hosts six-week classes\, “Powerful Tools for Caregivers.” If you have picked up a prescription\, brought over dinner\, given a ride to the doctor\, taken care of an errand or made decisions big or small on behalf of a senior\, you are a caregiver. The class is designed to provide you with a wealth of self-care tools that will help you take care of yourself while taking care of others. You will learn to reduce stress\, improve your self-confidence\, bring more balance to your life\, better communicate your feelings\, and increase your ability to make tough decisions. The class is open to people from the Jewish and broader community.
URL:https://trellisconnects.org/cc-event/powerful-tools-for-caregivers-11/2025-05-07/
LOCATION:MN JCC- Sabes Center Mpls\, 4330 S. Cedar Lake Road\, Saint Louis Park\, 55416
CATEGORIES:Caregiver Education
ORGANIZER;CN="Jewish Family and Children's Service of Minneapolis":MAILTO:jkoontz@jfcsmpls.org
END:VEVENT
BEGIN:VEVENT
DTSTART;TZID=America/Chicago:20250508T100000
DTEND;TZID=America/Chicago:20250508T120000
DTSTAMP:20260425T104121
CREATED:20241206T204241Z
LAST-MODIFIED:20241206T204243Z
UID:10003104-1746698400-1746705600@trellisconnects.org
SUMMARY:Shaping Your Tomorrow: Dementia & MCI
DESCRIPTION:Shaping Your Tomorrow is designed to meet the needs of both the person with memory loss and a family member or friend. Each week introduces specific topic for education\, planning for the future\, and learning from others on a similar journey. Rich discussions with the full group are followed by separate peer conversations: one for people with memory loss and one for their partners. This is a 10 week session hosted at FamilyMeans in Stillwater. Funded under award with Trellis as part of Older Americans Act. \nInterview and pre-registration required. \nShaping Your Tomorrow provides:\n• An understanding place to gather and know you are not alone\n• A supportive learning environment to gain knowledge and ask questions\n• A chance to talk with others about the dementia experience\n• Detailed information to help plan and build confidence\n• An opportunity to shape your tomorrow \n  \nFor more information please contact FamilyMeans Caregiving & Aging at 651-489-4840 or by emailing familymeans@familymeans.org.
URL:https://trellisconnects.org/cc-event/shaping-your-tomorrow-dementia-mci/2025-05-08/
LOCATION:FamilyMeans\, 1875 Northwestern Avenue S\, Stillwater\, MN\, 55082\, United States
CATEGORIES:Caregiver Education
ATTACH;FMTTYPE=image/jpeg:https://trellisconnects.org/wp-content/uploads/2024/12/Caregiving-and-Aging-Logo-Stacked.jpg
END:VEVENT
BEGIN:VEVENT
DTSTART;TZID=America/Chicago:20250510T090000
DTEND;TZID=America/Chicago:20250510T120000
DTSTAMP:20260425T104121
CREATED:20230118T184150Z
LAST-MODIFIED:20230601T154633Z
UID:10001514-1746867600-1746878400@trellisconnects.org
SUMMARY:Second Saturday for Caregivers
DESCRIPTION:Join Normandale Center for Healing & Wholeness for their free Second Saturday program each month which includes a 90 minute education session beginning at 9:00 am and a support group meeting directly afterwards at 10:30 am. The morning education session provides powerful tools and coping skills for you the caregiver. \nRespite is available for your loved one from 9 am – 12pm with advanced registration.
URL:https://trellisconnects.org/cc-event/second-saturday-for-caregivers/2025-05-10/
LOCATION:Normandale Center for Healing & Wholeness\, 6100 Normandale Road\, 2nd Floor\, Edina\, Minnesota\, 55436\, United States
CATEGORIES:Caregiver Education
END:VEVENT
BEGIN:VEVENT
DTSTART;TZID=America/Chicago:20250510T090000
DTEND;TZID=America/Chicago:20250510T120000
DTSTAMP:20260425T104121
CREATED:20240223T160304Z
LAST-MODIFIED:20240223T160306Z
UID:10002298-1746867600-1746878400@trellisconnects.org
SUMMARY:Second Saturday for Caregivers
DESCRIPTION:Join Normandale Center for free caregiver education programming every month. A 90 minute education session begins at 9 am and a support group meets directly afterwards at 10:30 am. Come for one or both sessions. The morning program provides powerful tools and coping skills for caregivers. Respite is available for your loved one from 9 am – 12pm.
URL:https://trellisconnects.org/cc-event/second-saturday-for-caregivers-2/2025-05-10/
LOCATION:Normandale Center for Healing & Wholeness\, 6100 Normandale Road\, 2nd Floor\, Edina\, Minnesota\, 55436\, United States
CATEGORIES:Caregiver Education,Respite,Support Group
END:VEVENT
BEGIN:VEVENT
DTSTART;TZID=America/Chicago:20250514T100000
DTEND;TZID=America/Chicago:20250514T113000
DTSTAMP:20260425T104121
CREATED:20250501T163849Z
LAST-MODIFIED:20250501T163853Z
UID:10003445-1747216800-1747222200@trellisconnects.org
SUMMARY:Powerful Tools for Caregivers
DESCRIPTION:JFCS hosts six-week classes\, “Powerful Tools for Caregivers.” If you have picked up a prescription\, brought over dinner\, given a ride to the doctor\, taken care of an errand or made decisions big or small on behalf of a senior\, you are a caregiver. The class is designed to provide you with a wealth of self-care tools that will help you take care of yourself while taking care of others. You will learn to reduce stress\, improve your self-confidence\, bring more balance to your life\, better communicate your feelings\, and increase your ability to make tough decisions. The class is open to people from the Jewish and broader community.
URL:https://trellisconnects.org/cc-event/powerful-tools-for-caregivers-11/2025-05-14/
LOCATION:MN JCC- Sabes Center Mpls\, 4330 S. Cedar Lake Road\, Saint Louis Park\, 55416
CATEGORIES:Caregiver Education
ORGANIZER;CN="Jewish Family and Children's Service of Minneapolis":MAILTO:jkoontz@jfcsmpls.org
END:VEVENT
BEGIN:VEVENT
DTSTART;TZID=America/Chicago:20250515T100000
DTEND;TZID=America/Chicago:20250515T120000
DTSTAMP:20260425T104121
CREATED:20241206T204241Z
LAST-MODIFIED:20241206T204243Z
UID:10003105-1747303200-1747310400@trellisconnects.org
SUMMARY:Shaping Your Tomorrow: Dementia & MCI
DESCRIPTION:Shaping Your Tomorrow is designed to meet the needs of both the person with memory loss and a family member or friend. Each week introduces specific topic for education\, planning for the future\, and learning from others on a similar journey. Rich discussions with the full group are followed by separate peer conversations: one for people with memory loss and one for their partners. This is a 10 week session hosted at FamilyMeans in Stillwater. Funded under award with Trellis as part of Older Americans Act. \nInterview and pre-registration required. \nShaping Your Tomorrow provides:\n• An understanding place to gather and know you are not alone\n• A supportive learning environment to gain knowledge and ask questions\n• A chance to talk with others about the dementia experience\n• Detailed information to help plan and build confidence\n• An opportunity to shape your tomorrow \n  \nFor more information please contact FamilyMeans Caregiving & Aging at 651-489-4840 or by emailing familymeans@familymeans.org.
URL:https://trellisconnects.org/cc-event/shaping-your-tomorrow-dementia-mci/2025-05-15/
LOCATION:FamilyMeans\, 1875 Northwestern Avenue S\, Stillwater\, MN\, 55082\, United States
CATEGORIES:Caregiver Education
ATTACH;FMTTYPE=image/jpeg:https://trellisconnects.org/wp-content/uploads/2024/12/Caregiving-and-Aging-Logo-Stacked.jpg
END:VEVENT
BEGIN:VEVENT
DTSTART;TZID=America/Chicago:20250521T100000
DTEND;TZID=America/Chicago:20250521T113000
DTSTAMP:20260425T104121
CREATED:20250501T163849Z
LAST-MODIFIED:20250501T163853Z
UID:10003446-1747821600-1747827000@trellisconnects.org
SUMMARY:Powerful Tools for Caregivers
DESCRIPTION:JFCS hosts six-week classes\, “Powerful Tools for Caregivers.” If you have picked up a prescription\, brought over dinner\, given a ride to the doctor\, taken care of an errand or made decisions big or small on behalf of a senior\, you are a caregiver. The class is designed to provide you with a wealth of self-care tools that will help you take care of yourself while taking care of others. You will learn to reduce stress\, improve your self-confidence\, bring more balance to your life\, better communicate your feelings\, and increase your ability to make tough decisions. The class is open to people from the Jewish and broader community.
URL:https://trellisconnects.org/cc-event/powerful-tools-for-caregivers-11/2025-05-21/
LOCATION:MN JCC- Sabes Center Mpls\, 4330 S. Cedar Lake Road\, Saint Louis Park\, 55416
CATEGORIES:Caregiver Education
ORGANIZER;CN="Jewish Family and Children's Service of Minneapolis":MAILTO:jkoontz@jfcsmpls.org
END:VEVENT
BEGIN:VEVENT
DTSTART;TZID=America/Chicago:20250522T100000
DTEND;TZID=America/Chicago:20250522T120000
DTSTAMP:20260425T104121
CREATED:20241206T204241Z
LAST-MODIFIED:20241206T204243Z
UID:10003106-1747908000-1747915200@trellisconnects.org
SUMMARY:Shaping Your Tomorrow: Dementia & MCI
DESCRIPTION:Shaping Your Tomorrow is designed to meet the needs of both the person with memory loss and a family member or friend. Each week introduces specific topic for education\, planning for the future\, and learning from others on a similar journey. Rich discussions with the full group are followed by separate peer conversations: one for people with memory loss and one for their partners. This is a 10 week session hosted at FamilyMeans in Stillwater. Funded under award with Trellis as part of Older Americans Act. \nInterview and pre-registration required. \nShaping Your Tomorrow provides:\n• An understanding place to gather and know you are not alone\n• A supportive learning environment to gain knowledge and ask questions\n• A chance to talk with others about the dementia experience\n• Detailed information to help plan and build confidence\n• An opportunity to shape your tomorrow \n  \nFor more information please contact FamilyMeans Caregiving & Aging at 651-489-4840 or by emailing familymeans@familymeans.org.
URL:https://trellisconnects.org/cc-event/shaping-your-tomorrow-dementia-mci/2025-05-22/
LOCATION:FamilyMeans\, 1875 Northwestern Avenue S\, Stillwater\, MN\, 55082\, United States
CATEGORIES:Caregiver Education
ATTACH;FMTTYPE=image/jpeg:https://trellisconnects.org/wp-content/uploads/2024/12/Caregiving-and-Aging-Logo-Stacked.jpg
END:VEVENT
BEGIN:VEVENT
DTSTART;TZID=America/Chicago:20250528T100000
DTEND;TZID=America/Chicago:20250528T113000
DTSTAMP:20260425T104121
CREATED:20250501T163849Z
LAST-MODIFIED:20250501T163853Z
UID:10003447-1748426400-1748431800@trellisconnects.org
SUMMARY:Powerful Tools for Caregivers
DESCRIPTION:JFCS hosts six-week classes\, “Powerful Tools for Caregivers.” If you have picked up a prescription\, brought over dinner\, given a ride to the doctor\, taken care of an errand or made decisions big or small on behalf of a senior\, you are a caregiver. The class is designed to provide you with a wealth of self-care tools that will help you take care of yourself while taking care of others. You will learn to reduce stress\, improve your self-confidence\, bring more balance to your life\, better communicate your feelings\, and increase your ability to make tough decisions. The class is open to people from the Jewish and broader community.
URL:https://trellisconnects.org/cc-event/powerful-tools-for-caregivers-11/2025-05-28/
LOCATION:MN JCC- Sabes Center Mpls\, 4330 S. Cedar Lake Road\, Saint Louis Park\, 55416
CATEGORIES:Caregiver Education
ORGANIZER;CN="Jewish Family and Children's Service of Minneapolis":MAILTO:jkoontz@jfcsmpls.org
END:VEVENT
END:VCALENDAR