BEGIN:VCALENDAR
VERSION:2.0
PRODID:-//Trellis - ECPv6.15.20//NONSGML v1.0//EN
CALSCALE:GREGORIAN
METHOD:PUBLISH
X-WR-CALNAME:Trellis
X-ORIGINAL-URL:https://trellisconnects.org
X-WR-CALDESC:Events for Trellis
REFRESH-INTERVAL;VALUE=DURATION:PT1H
X-Robots-Tag:noindex
X-PUBLISHED-TTL:PT1H
BEGIN:VTIMEZONE
TZID:America/Chicago
BEGIN:DAYLIGHT
TZOFFSETFROM:-0600
TZOFFSETTO:-0500
TZNAME:CDT
DTSTART:20240310T080000
END:DAYLIGHT
BEGIN:STANDARD
TZOFFSETFROM:-0500
TZOFFSETTO:-0600
TZNAME:CST
DTSTART:20241103T070000
END:STANDARD
BEGIN:DAYLIGHT
TZOFFSETFROM:-0600
TZOFFSETTO:-0500
TZNAME:CDT
DTSTART:20250309T080000
END:DAYLIGHT
BEGIN:STANDARD
TZOFFSETFROM:-0500
TZOFFSETTO:-0600
TZNAME:CST
DTSTART:20251102T070000
END:STANDARD
BEGIN:DAYLIGHT
TZOFFSETFROM:-0600
TZOFFSETTO:-0500
TZNAME:CDT
DTSTART:20260308T080000
END:DAYLIGHT
BEGIN:STANDARD
TZOFFSETFROM:-0500
TZOFFSETTO:-0600
TZNAME:CST
DTSTART:20261101T070000
END:STANDARD
END:VTIMEZONE
BEGIN:VEVENT
DTSTART;TZID=America/Chicago:20250308T090000
DTEND;TZID=America/Chicago:20250308T120000
DTSTAMP:20260425T134457
CREATED:20230118T184150Z
LAST-MODIFIED:20230601T154633Z
UID:10001512-1741424400-1741435200@trellisconnects.org
SUMMARY:Second Saturday for Caregivers
DESCRIPTION:Join Normandale Center for Healing & Wholeness for their free Second Saturday program each month which includes a 90 minute education session beginning at 9:00 am and a support group meeting directly afterwards at 10:30 am. The morning education session provides powerful tools and coping skills for you the caregiver. \nRespite is available for your loved one from 9 am – 12pm with advanced registration.
URL:https://trellisconnects.org/cc-event/second-saturday-for-caregivers/2025-03-08/
LOCATION:Normandale Center for Healing & Wholeness\, 6100 Normandale Road\, 2nd Floor\, Edina\, Minnesota\, 55436\, United States
CATEGORIES:Caregiver Education
END:VEVENT
BEGIN:VEVENT
DTSTART;TZID=America/Chicago:20250308T090000
DTEND;TZID=America/Chicago:20250308T120000
DTSTAMP:20260425T134457
CREATED:20240223T160304Z
LAST-MODIFIED:20240223T160306Z
UID:10002296-1741424400-1741435200@trellisconnects.org
SUMMARY:Second Saturday for Caregivers
DESCRIPTION:Join Normandale Center for free caregiver education programming every month. A 90 minute education session begins at 9 am and a support group meets directly afterwards at 10:30 am. Come for one or both sessions. The morning program provides powerful tools and coping skills for caregivers. Respite is available for your loved one from 9 am – 12pm.
URL:https://trellisconnects.org/cc-event/second-saturday-for-caregivers-2/2025-03-08/
LOCATION:Normandale Center for Healing & Wholeness\, 6100 Normandale Road\, 2nd Floor\, Edina\, Minnesota\, 55436\, United States
CATEGORIES:Caregiver Education,Respite,Support Group
END:VEVENT
BEGIN:VEVENT
DTSTART;TZID=America/Chicago:20250320T100000
DTEND;TZID=America/Chicago:20250320T120000
DTSTAMP:20260425T134457
CREATED:20241206T204241Z
LAST-MODIFIED:20241206T204243Z
UID:10003097-1742464800-1742472000@trellisconnects.org
SUMMARY:Shaping Your Tomorrow: Dementia & MCI
DESCRIPTION:Shaping Your Tomorrow is designed to meet the needs of both the person with memory loss and a family member or friend. Each week introduces specific topic for education\, planning for the future\, and learning from others on a similar journey. Rich discussions with the full group are followed by separate peer conversations: one for people with memory loss and one for their partners. This is a 10 week session hosted at FamilyMeans in Stillwater. Funded under award with Trellis as part of Older Americans Act. \nInterview and pre-registration required. \nShaping Your Tomorrow provides:\n• An understanding place to gather and know you are not alone\n• A supportive learning environment to gain knowledge and ask questions\n• A chance to talk with others about the dementia experience\n• Detailed information to help plan and build confidence\n• An opportunity to shape your tomorrow \n  \nFor more information please contact FamilyMeans Caregiving & Aging at 651-489-4840 or by emailing familymeans@familymeans.org.
URL:https://trellisconnects.org/cc-event/shaping-your-tomorrow-dementia-mci/2025-03-20/
LOCATION:FamilyMeans\, 1875 Northwestern Avenue S\, Stillwater\, MN\, 55082\, United States
CATEGORIES:Caregiver Education
ATTACH;FMTTYPE=image/jpeg:https://trellisconnects.org/wp-content/uploads/2024/12/Caregiving-and-Aging-Logo-Stacked.jpg
END:VEVENT
BEGIN:VEVENT
DTSTART;TZID=America/Chicago:20250327T100000
DTEND;TZID=America/Chicago:20250327T120000
DTSTAMP:20260425T134457
CREATED:20241206T204241Z
LAST-MODIFIED:20241206T204243Z
UID:10003098-1743069600-1743076800@trellisconnects.org
SUMMARY:Shaping Your Tomorrow: Dementia & MCI
DESCRIPTION:Shaping Your Tomorrow is designed to meet the needs of both the person with memory loss and a family member or friend. Each week introduces specific topic for education\, planning for the future\, and learning from others on a similar journey. Rich discussions with the full group are followed by separate peer conversations: one for people with memory loss and one for their partners. This is a 10 week session hosted at FamilyMeans in Stillwater. Funded under award with Trellis as part of Older Americans Act. \nInterview and pre-registration required. \nShaping Your Tomorrow provides:\n• An understanding place to gather and know you are not alone\n• A supportive learning environment to gain knowledge and ask questions\n• A chance to talk with others about the dementia experience\n• Detailed information to help plan and build confidence\n• An opportunity to shape your tomorrow \n  \nFor more information please contact FamilyMeans Caregiving & Aging at 651-489-4840 or by emailing familymeans@familymeans.org.
URL:https://trellisconnects.org/cc-event/shaping-your-tomorrow-dementia-mci/2025-03-27/
LOCATION:FamilyMeans\, 1875 Northwestern Avenue S\, Stillwater\, MN\, 55082\, United States
CATEGORIES:Caregiver Education
ATTACH;FMTTYPE=image/jpeg:https://trellisconnects.org/wp-content/uploads/2024/12/Caregiving-and-Aging-Logo-Stacked.jpg
END:VEVENT
END:VCALENDAR