BEGIN:VCALENDAR
VERSION:2.0
PRODID:-//Trellis - ECPv6.15.20//NONSGML v1.0//EN
CALSCALE:GREGORIAN
METHOD:PUBLISH
X-ORIGINAL-URL:https://trellisconnects.org
X-WR-CALDESC:Events for Trellis
REFRESH-INTERVAL;VALUE=DURATION:PT1H
X-Robots-Tag:noindex
X-PUBLISHED-TTL:PT1H
BEGIN:VTIMEZONE
TZID:America/Chicago
BEGIN:DAYLIGHT
TZOFFSETFROM:-0600
TZOFFSETTO:-0500
TZNAME:CDT
DTSTART:20240310T080000
END:DAYLIGHT
BEGIN:STANDARD
TZOFFSETFROM:-0500
TZOFFSETTO:-0600
TZNAME:CST
DTSTART:20241103T070000
END:STANDARD
BEGIN:DAYLIGHT
TZOFFSETFROM:-0600
TZOFFSETTO:-0500
TZNAME:CDT
DTSTART:20250309T080000
END:DAYLIGHT
BEGIN:STANDARD
TZOFFSETFROM:-0500
TZOFFSETTO:-0600
TZNAME:CST
DTSTART:20251102T070000
END:STANDARD
BEGIN:DAYLIGHT
TZOFFSETFROM:-0600
TZOFFSETTO:-0500
TZNAME:CDT
DTSTART:20260308T080000
END:DAYLIGHT
BEGIN:STANDARD
TZOFFSETFROM:-0500
TZOFFSETTO:-0600
TZNAME:CST
DTSTART:20261101T070000
END:STANDARD
END:VTIMEZONE
BEGIN:VEVENT
DTSTART;TZID=America/Chicago:20250205T153000
DTEND;TZID=America/Chicago:20250205T170000
DTSTAMP:20260425T153216
CREATED:20250207T162415Z
LAST-MODIFIED:20250207T162418Z
UID:10003240-1738769400-1738774800@trellisconnects.org
SUMMARY:Powerful Tools for Caregivers
DESCRIPTION:Join this 6-week virtual class that aims to help caregivers take better care of themselves while caring for others. Any caregiver of an older adult is welcome to register. Caregivers will improve self-care practices and their ability to manage emotions as well as increase their confidence in coping with the demands of caregiving. Class meets Wednesdays from 3:30-5 PM on January 22-February 26. Register online at: https://yourjuniper.org/Classes/Register/4622 or contact Lisa at caregiving@lyngblomsten.org or 651-632-5320.
URL:https://trellisconnects.org/cc-event/powerful-tools-for-caregivers-10/2025-02-05/
LOCATION:Zoom\, MN\, United States
CATEGORIES:Caregiver Education
ATTACH;FMTTYPE=image/jpeg:https://trellisconnects.org/wp-content/uploads/2025/01/Community-Services-Logo-22-002.jpg
ORGANIZER;CN="Lyngblomsten Community Services":MAILTO:communityservices@lyngblomsten.org
END:VEVENT
BEGIN:VEVENT
DTSTART;TZID=America/Chicago:20250208T090000
DTEND;TZID=America/Chicago:20250208T120000
DTSTAMP:20260425T153216
CREATED:20230118T184150Z
LAST-MODIFIED:20230601T154633Z
UID:10001511-1739005200-1739016000@trellisconnects.org
SUMMARY:Second Saturday for Caregivers
DESCRIPTION:Join Normandale Center for Healing & Wholeness for their free Second Saturday program each month which includes a 90 minute education session beginning at 9:00 am and a support group meeting directly afterwards at 10:30 am. The morning education session provides powerful tools and coping skills for you the caregiver. \nRespite is available for your loved one from 9 am – 12pm with advanced registration.
URL:https://trellisconnects.org/cc-event/second-saturday-for-caregivers/2025-02-08/
LOCATION:Normandale Center for Healing & Wholeness\, 6100 Normandale Road\, 2nd Floor\, Edina\, Minnesota\, 55436\, United States
CATEGORIES:Caregiver Education
END:VEVENT
BEGIN:VEVENT
DTSTART;TZID=America/Chicago:20250208T090000
DTEND;TZID=America/Chicago:20250208T120000
DTSTAMP:20260425T153216
CREATED:20240223T160304Z
LAST-MODIFIED:20240223T160306Z
UID:10002295-1739005200-1739016000@trellisconnects.org
SUMMARY:Second Saturday for Caregivers
DESCRIPTION:Join Normandale Center for free caregiver education programming every month. A 90 minute education session begins at 9 am and a support group meets directly afterwards at 10:30 am. Come for one or both sessions. The morning program provides powerful tools and coping skills for caregivers. Respite is available for your loved one from 9 am – 12pm.
URL:https://trellisconnects.org/cc-event/second-saturday-for-caregivers-2/2025-02-08/
LOCATION:Normandale Center for Healing & Wholeness\, 6100 Normandale Road\, 2nd Floor\, Edina\, Minnesota\, 55436\, United States
CATEGORIES:Caregiver Education,Respite,Support Group
END:VEVENT
BEGIN:VEVENT
DTSTART;TZID=America/Chicago:20250212T153000
DTEND;TZID=America/Chicago:20250212T170000
DTSTAMP:20260425T153216
CREATED:20250207T162415Z
LAST-MODIFIED:20250207T162418Z
UID:10003241-1739374200-1739379600@trellisconnects.org
SUMMARY:Powerful Tools for Caregivers
DESCRIPTION:Join this 6-week virtual class that aims to help caregivers take better care of themselves while caring for others. Any caregiver of an older adult is welcome to register. Caregivers will improve self-care practices and their ability to manage emotions as well as increase their confidence in coping with the demands of caregiving. Class meets Wednesdays from 3:30-5 PM on January 22-February 26. Register online at: https://yourjuniper.org/Classes/Register/4622 or contact Lisa at caregiving@lyngblomsten.org or 651-632-5320.
URL:https://trellisconnects.org/cc-event/powerful-tools-for-caregivers-10/2025-02-12/
LOCATION:Zoom\, MN\, United States
CATEGORIES:Caregiver Education
ATTACH;FMTTYPE=image/jpeg:https://trellisconnects.org/wp-content/uploads/2025/01/Community-Services-Logo-22-002.jpg
ORGANIZER;CN="Lyngblomsten Community Services":MAILTO:communityservices@lyngblomsten.org
END:VEVENT
BEGIN:VEVENT
DTSTART;TZID=America/Chicago:20250219T153000
DTEND;TZID=America/Chicago:20250219T170000
DTSTAMP:20260425T153216
CREATED:20250207T162415Z
LAST-MODIFIED:20250207T162418Z
UID:10003242-1739979000-1739984400@trellisconnects.org
SUMMARY:Powerful Tools for Caregivers
DESCRIPTION:Join this 6-week virtual class that aims to help caregivers take better care of themselves while caring for others. Any caregiver of an older adult is welcome to register. Caregivers will improve self-care practices and their ability to manage emotions as well as increase their confidence in coping with the demands of caregiving. Class meets Wednesdays from 3:30-5 PM on January 22-February 26. Register online at: https://yourjuniper.org/Classes/Register/4622 or contact Lisa at caregiving@lyngblomsten.org or 651-632-5320.
URL:https://trellisconnects.org/cc-event/powerful-tools-for-caregivers-10/2025-02-19/
LOCATION:Zoom\, MN\, United States
CATEGORIES:Caregiver Education
ATTACH;FMTTYPE=image/jpeg:https://trellisconnects.org/wp-content/uploads/2025/01/Community-Services-Logo-22-002.jpg
ORGANIZER;CN="Lyngblomsten Community Services":MAILTO:communityservices@lyngblomsten.org
END:VEVENT
BEGIN:VEVENT
DTSTART;TZID=America/Chicago:20250226T153000
DTEND;TZID=America/Chicago:20250226T170000
DTSTAMP:20260425T153216
CREATED:20250207T162415Z
LAST-MODIFIED:20250207T162418Z
UID:10003243-1740583800-1740589200@trellisconnects.org
SUMMARY:Powerful Tools for Caregivers
DESCRIPTION:Join this 6-week virtual class that aims to help caregivers take better care of themselves while caring for others. Any caregiver of an older adult is welcome to register. Caregivers will improve self-care practices and their ability to manage emotions as well as increase their confidence in coping with the demands of caregiving. Class meets Wednesdays from 3:30-5 PM on January 22-February 26. Register online at: https://yourjuniper.org/Classes/Register/4622 or contact Lisa at caregiving@lyngblomsten.org or 651-632-5320.
URL:https://trellisconnects.org/cc-event/powerful-tools-for-caregivers-10/2025-02-26/
LOCATION:Zoom\, MN\, United States
CATEGORIES:Caregiver Education
ATTACH;FMTTYPE=image/jpeg:https://trellisconnects.org/wp-content/uploads/2025/01/Community-Services-Logo-22-002.jpg
ORGANIZER;CN="Lyngblomsten Community Services":MAILTO:communityservices@lyngblomsten.org
END:VEVENT
END:VCALENDAR